BEGIN:VCALENDAR
VERSION:2.0
PRODID:-//dsnmc.org//NONSGML kigkonsult.se iCalcreator 2.30.10//
CALSCALE:GREGORIAN
METHOD:PUBLISH
UID:3f0f89c4-6ca2-4b22-a03a-cce7ac8c91b0
X-WR-CALDESC:Join Tim Weins\, Executive Director of Maryland Inclusive Hous
 ing\, to learn about accessible housing options in Maryland. Pre-register 
 by clicking this link: https://dsnmc.networkforgood.com/events/40497-dsnmc
 -parent-guardian-speaker-series-the-changing-look-of-residential-and-suppo
 rted-living-services\n
X-WR-RELCALID:6afa0e1fdd4fd7940e01aea509ca3962
X-WR-TIMEZONE:America/New_York
BEGIN:VTIMEZONE
TZID:America/New_York
BEGIN:STANDARD
TZNAME:EST
DTSTART:20211107T020000
TZOFFSETFROM:-0400
TZOFFSETTO:-0500
RDATE:20221106T020000
END:STANDARD
BEGIN:DAYLIGHT
TZNAME:EDT
DTSTART:20220313T020000
TZOFFSETFROM:-0500
TZOFFSETTO:-0400
RDATE:20230312T020000
END:DAYLIGHT
END:VTIMEZONE
BEGIN:VEVENT
UID:03c1b811-5b15-4a90-9d3e-995b2e3123a9
DTSTAMP:20260421T073558Z
DESCRIPTION:Join Tim Weins\, Executive Director of Maryland Inclusive Housi
 ng\, to learn about accessible housing options in Maryland. Pre-register b
 y clicking this link: https://dsnmc.networkforgood.com/events/40497-dsnmc-
 parent-guardian-speaker-series-the-changing-look-of-residential-and-suppor
 ted-living-services\n
DTSTART;TZID=America/New_York:20220320T153000
DTEND;TZID=America/New_York:20220320T163000
LOCATION:https://dsnmc.networkforgood.com/events/40497-dsnmc-parent-guardia
 n-speaker-series-the-changing-look-of-residential-and-supported-living-ser
 vices
SUMMARY:Parent Conversations
END:VEVENT
END:VCALENDAR
