BEGIN:VCALENDAR
VERSION:2.0
PRODID:-//dsnmc.org//NONSGML kigkonsult.se iCalcreator 2.30.10//
CALSCALE:GREGORIAN
METHOD:PUBLISH
UID:9b4d106e-9969-4aa9-b7f7-7e3607956b0f
X-WR-CALDESC:Join our Teen Hangout program every Thursday at 6:30 via Zoom!
  For Ages 12 - 17. Families are welcome to join.
X-WR-RELCALID:0caf9b236a959069eafe02b5463a4bc7
X-WR-TIMEZONE:America/New_York
BEGIN:VTIMEZONE
TZID:America/New_York
BEGIN:STANDARD
TZNAME:EST
DTSTART:20211107T020000
TZOFFSETFROM:-0400
TZOFFSETTO:-0500
RDATE:20221106T020000
END:STANDARD
BEGIN:DAYLIGHT
TZNAME:EDT
DTSTART:20220313T020000
TZOFFSETFROM:-0500
TZOFFSETTO:-0400
RDATE:20230312T020000
END:DAYLIGHT
END:VTIMEZONE
BEGIN:VEVENT
UID:dfe452a8-1bc7-43a6-99a1-a86a777e9556
DTSTAMP:20260421T062418Z
DESCRIPTION:Join our Teen Hangout program every Thursday at 6:30 via Zoom! 
 For Ages 12 - 17. Families are welcome to join.
DTSTART;TZID=America/New_York:20220414T183000
DTEND;TZID=America/New_York:20220414T190000
LOCATION:https://us02web.zoom.us/j/83919769645
SUMMARY:Teen Hangout Social Meetings Canceled for MCPS Spring Break
END:VEVENT
END:VCALENDAR
