BEGIN:VCALENDAR
VERSION:2.0
PRODID:-//dsnmc.org//NONSGML kigkonsult.se iCalcreator 2.30.10//
CALSCALE:GREGORIAN
METHOD:PUBLISH
UID:bbff6d13-533c-48c2-96df-6c92a5783c6e
X-WR-CALDESC:
X-WR-RELCALID:70786218d41a8840282597103b72a10b
X-WR-TIMEZONE:America/New_York
BEGIN:VTIMEZONE
TZID:America/New_York
BEGIN:STANDARD
TZNAME:EST
DTSTART:20211107T020000
TZOFFSETFROM:-0400
TZOFFSETTO:-0500
RDATE:20221106T020000
END:STANDARD
BEGIN:DAYLIGHT
TZNAME:EDT
DTSTART:20220313T020000
TZOFFSETFROM:-0500
TZOFFSETTO:-0400
RDATE:20230312T020000
END:DAYLIGHT
END:VTIMEZONE
BEGIN:VEVENT
UID:1a68d223-4116-4123-80d2-7f0e0ab8eacd
DTSTAMP:20260421T061810Z
DESCRIPTION:
DTSTART;TZID=America/New_York:20220418T190000
DTEND;TZID=America/New_York:20220418T210000
LOCATION:
SUMMARY:Board Meeting
END:VEVENT
END:VCALENDAR
