BEGIN:VCALENDAR
VERSION:2.0
PRODID:-//dsnmc.org//NONSGML kigkonsult.se iCalcreator 2.30.10//
CALSCALE:GREGORIAN
METHOD:PUBLISH
UID:9e25c468-eac2-4d40-8105-0f81ccbcc001
X-WR-CALDESC:
X-WR-RELCALID:bebd00ceaab5f5e01d101c052283df22
X-WR-TIMEZONE:America/New_York
BEGIN:VTIMEZONE
TZID:America/New_York
BEGIN:STANDARD
TZNAME:EST
DTSTART:20211107T020000
TZOFFSETFROM:-0400
TZOFFSETTO:-0500
RDATE:20221106T020000
END:STANDARD
BEGIN:DAYLIGHT
TZNAME:EDT
DTSTART:20220313T020000
TZOFFSETFROM:-0500
TZOFFSETTO:-0400
RDATE:20230312T020000
END:DAYLIGHT
END:VTIMEZONE
BEGIN:VEVENT
UID:cc765b87-b8d4-4529-b6c2-8e83853c3558
DTSTAMP:20260421T045815Z
DESCRIPTION:
DTSTART;TZID=America/New_York:20220502T203000
DTEND;TZID=America/New_York:20220502T214500
LOCATION:
SUMMARY:New Family Committee Meeting
END:VEVENT
END:VCALENDAR
