BEGIN:VCALENDAR
VERSION:2.0
PRODID:-//dsnmc.org//NONSGML kigkonsult.se iCalcreator 2.30.10//
CALSCALE:GREGORIAN
METHOD:PUBLISH
UID:07c659c8-7458-407d-b260-e2107517bc48
X-WR-CALDESC:The DSNMC Education Committee is now meeting the first Wednesd
 ay of each month from 7:15pm-8:15pm. \n\nCo-chairs: \nKalani Brown (kalani
 uke@hotmail.com) and Carrie Swann (carrie.swann@gmail.com)\n\nJoin Zoom Me
 eting\nhttps://us02web.zoom.us/j/86288520613?pwd=TmIyZ3JDcmVCRUNuanRRWWNwT
 2h6QT09\n\nMeeting ID: 862 8852 0613\nPasscode: 785188\nOne tap mobile\n+1
 3017158592
X-WR-RELCALID:22c9944bb21ecf1d080960c4d560e241
X-WR-TIMEZONE:America/New_York
BEGIN:VTIMEZONE
TZID:America/New_York
BEGIN:STANDARD
TZNAME:EST
DTSTART:20211107T020000
TZOFFSETFROM:-0400
TZOFFSETTO:-0500
RDATE:20221106T020000
END:STANDARD
BEGIN:DAYLIGHT
TZNAME:EDT
DTSTART:20220313T020000
TZOFFSETFROM:-0500
TZOFFSETTO:-0400
RDATE:20230312T020000
END:DAYLIGHT
END:VTIMEZONE
BEGIN:VEVENT
UID:eb98c0b9-bea3-4f11-8412-2a8569fe6a76
DTSTAMP:20260421T050331Z
DESCRIPTION:The DSNMC Education Committee is now meeting the first Wednesda
 y of each month from 7:15pm-8:15pm. \n\nCo-chairs: \nKalani Brown (kalaniu
 ke@hotmail.com) and Carrie Swann (carrie.swann@gmail.com)\n\nJoin Zoom Mee
 ting\nhttps://us02web.zoom.us/j/86288520613?pwd=TmIyZ3JDcmVCRUNuanRRWWNwT2
 h6QT09\n\nMeeting ID: 862 8852 0613\nPasscode: 785188\nOne tap mobile\n+13
 017158592
DTSTART;TZID=America/New_York:20220504T191500
DTEND;TZID=America/New_York:20220504T201500
LOCATION:https://us02web.zoom.us/j/86288520613?pwd=TmIyZ3JDcmVCRUNuanRRWWNw
 T2h6QT09
SUMMARY:DSNMC Education Committee Meeting CANCELLED
END:VEVENT
END:VCALENDAR
