BEGIN:VCALENDAR
VERSION:2.0
PRODID:-//dsnmc.org//NONSGML kigkonsult.se iCalcreator 2.30.10//
CALSCALE:GREGORIAN
METHOD:PUBLISH
UID:4074a57d-7c42-4035-9b68-20d6a2fe03a2
X-WR-CALDESC:We will meet at North Farm Park at 6:30 pm for dinner\, desser
 t and games. Feel free to bring along hula hoops\, a basketball\, or your 
 favorite outdoor game. This outdoor\, in-person event is geared toward tee
 ns and self-advocates. We welcome parents or other support personnel to st
 ay with teens or adults who need supervision. DSNMC staff and volunteers w
 ill lead activities for the group and will not be available to supervise i
 ndividual participants. This event will end promptly at 8 pm.  There will 
 be a $5.00 charge for teens/self advocates.\n\nThis event is limited to 30
  people.\n\nTo register\, click here: https://dsnmc.networkforgood.com/eve
 nts/42619-teen-young-adult-picnic-dinner\n\nIn order to attend this event\
 , you must complete the Covid 19 policy and safety waiver.\n\nAt this time
 \, Montgomery County is not requiring masks. The DSNMC will adhere to the 
 county mask guidelines which are in effect on May 6\, 2022.
X-WR-RELCALID:dc86a2f9918dd377f36e9fb4415a182d
X-WR-TIMEZONE:America/New_York
BEGIN:VTIMEZONE
TZID:America/New_York
BEGIN:STANDARD
TZNAME:EST
DTSTART:20211107T020000
TZOFFSETFROM:-0400
TZOFFSETTO:-0500
RDATE:20221106T020000
RDATE:20231105T020000
END:STANDARD
BEGIN:DAYLIGHT
TZNAME:EDT
DTSTART:20220313T020000
TZOFFSETFROM:-0500
TZOFFSETTO:-0400
RDATE:20230312T020000
END:DAYLIGHT
END:VTIMEZONE
BEGIN:VEVENT
UID:6a776651-ac2f-4915-8378-229bcd03cbe3
DTSTAMP:20260421T045652Z
DESCRIPTION:We will meet at North Farm Park at 6:30 pm for dinner\, dessert
  and games. Feel free to bring along hula hoops\, a basketball\, or your f
 avorite outdoor game. This outdoor\, in-person event is geared toward teen
 s and self-advocates. We welcome parents or other support personnel to sta
 y with teens or adults who need supervision. DSNMC staff and volunteers wi
 ll lead activities for the group and will not be available to supervise in
 dividual participants. This event will end promptly at 8 pm.  There will b
 e a $5.00 charge for teens/self advocates.\n\nThis event is limited to 30 
 people.\n\nTo register\, click here: https://dsnmc.networkforgood.com/even
 ts/42619-teen-young-adult-picnic-dinner\n\nIn order to attend this event\,
  you must complete the Covid 19 policy and safety waiver.\n\nAt this time\
 , Montgomery County is not requiring masks. The DSNMC will adhere to the c
 ounty mask guidelines which are in effect on May 6\, 2022.
DTSTART;TZID=America/New_York:20220506T183000
DTEND;TZID=America/New_York:20220506T200000
LOCATION:600 Farm Pond Lane\, Rockville\, MD 20852 US
SUMMARY:Picnic in the Park
END:VEVENT
END:VCALENDAR
