BEGIN:VCALENDAR
VERSION:2.0
PRODID:-//dsnmc.org//NONSGML kigkonsult.se iCalcreator 2.30.10//
CALSCALE:GREGORIAN
METHOD:PUBLISH
UID:1c59b9b9-216a-4b33-9ebb-eb12069a93ce
X-WR-CALDESC:Únase a nuestras reuniones en español el segundo lunes de cada
  mes. Envíe un correo electrónico a nuestro coordinador de grupo latino pa
 ra recibir la información de la reunión de Zoom.\n\nJoin Zoom Meeting\nhtt
 ps://us02web.zoom.us/j/85698498039?pwd=VG9mWW1CU05FZmJBc2UxUjVwbGRoZz09\n
 \nMeeting ID: 856 9849 8039\nPasscode: 455723\n\nCome join our all-Spanish
  meetings the second Monday of every month. Email our Latino group coordin
 ator to receive the Zoom meeting information.
X-WR-RELCALID:352ec501be2da1dc056caafa046ff1d9
X-WR-TIMEZONE:America/New_York
BEGIN:VTIMEZONE
TZID:America/New_York
BEGIN:STANDARD
TZNAME:EST
DTSTART:20211107T020000
TZOFFSETFROM:-0400
TZOFFSETTO:-0500
RDATE:20221106T020000
RDATE:20231105T020000
END:STANDARD
BEGIN:DAYLIGHT
TZNAME:EDT
DTSTART:20220313T020000
TZOFFSETFROM:-0500
TZOFFSETTO:-0400
RDATE:20230312T020000
END:DAYLIGHT
END:VTIMEZONE
BEGIN:VEVENT
UID:15d594ae-4df8-4237-a678-9fb0deade69a
DTSTAMP:20260421T045658Z
DESCRIPTION:Únase a nuestras reuniones en español el segundo lunes de cada 
 mes. Envíe un correo electrónico a nuestro coordinador de grupo latino par
 a recibir la información de la reunión de Zoom.\n\nJoin Zoom Meeting\nhttp
 s://us02web.zoom.us/j/85698498039?pwd=VG9mWW1CU05FZmJBc2UxUjVwbGRoZz09\n\n
 Meeting ID: 856 9849 8039\nPasscode: 455723\n\nCome join our all-Spanish m
 eetings the second Monday of every month. Email our Latino group coordinat
 or to receive the Zoom meeting information.
DTSTART;TZID=America/New_York:20220509T193000
DTEND;TZID=America/New_York:20220509T203000
LOCATION:https://us02web.zoom.us/j/85698498039?pwd=VG9mWW1CU05FZmJBc2UxUjVw
 bGRoZz09
SUMMARY:DSNMC Latino Group Meeting
END:VEVENT
END:VCALENDAR
