BEGIN:VCALENDAR
VERSION:2.0
PRODID:-//dsnmc.org//NONSGML kigkonsult.se iCalcreator 2.30.10//
CALSCALE:GREGORIAN
METHOD:PUBLISH
UID:5ccc016e-5be9-4d06-ad1e-c56dc0c9fbdc
X-WR-CALDESC:New members are always welcome at the Education Committee meet
 ings.\n\nCo-chairs: \nKalani Brown (kalaniuke@hotmail.com) and Carrie Swan
 n (carrie.swann@gmail.com)\n\nJoin Zoom Meeting\nhttps://us02web.zoom.us/j
 /86288520613?pwd=TmIyZ3JDcmVCRUNuanRRWWNwT2h6QT09\n\nMeeting ID: 862 8852 
 0613\nPasscode: 785188\nOne tap mobile\n+13017158592
X-WR-RELCALID:21196ea4b8cd93e6298dc452d52696d0
X-WR-TIMEZONE:America/New_York
BEGIN:VTIMEZONE
TZID:America/New_York
BEGIN:STANDARD
TZNAME:EST
DTSTART:20211107T020000
TZOFFSETFROM:-0400
TZOFFSETTO:-0500
RDATE:20221106T020000
RDATE:20231105T020000
END:STANDARD
BEGIN:DAYLIGHT
TZNAME:EDT
DTSTART:20220313T020000
TZOFFSETFROM:-0500
TZOFFSETTO:-0400
RDATE:20230312T020000
END:DAYLIGHT
END:VTIMEZONE
BEGIN:VEVENT
UID:54dfc5e4-bc1b-4bca-aba6-bd8a0aab9453
DTSTAMP:20260421T050453Z
DESCRIPTION:New members are always welcome at the Education Committee meeti
 ngs.\n\nCo-chairs: \nKalani Brown (kalaniuke@hotmail.com) and Carrie Swann
  (carrie.swann@gmail.com)\n\nJoin Zoom Meeting\nhttps://us02web.zoom.us/j/
 86288520613?pwd=TmIyZ3JDcmVCRUNuanRRWWNwT2h6QT09\n\nMeeting ID: 862 8852 0
 613\nPasscode: 785188\nOne tap mobile\n+13017158592
DTSTART;TZID=America/New_York:20220512T191500
DTEND;TZID=America/New_York:20220512T201500
LOCATION:https://us02web.zoom.us/j/86288520613?pwd=TmIyZ3JDcmVCRUNuanRRWWNw
 T2h6QT09
SUMMARY:DSNMC Education Committee Meeting
END:VEVENT
END:VCALENDAR
