BEGIN:VCALENDAR
VERSION:2.0
PRODID:-//dsnmc.org//NONSGML kigkonsult.se iCalcreator 2.30.10//
CALSCALE:GREGORIAN
METHOD:PUBLISH
UID:c02d49b5-e191-42fe-8421-b1328b91f54d
X-WR-CALDESC:Have you had a baby with Down syndrome born in the past few ye
 ars?  Do you have a loved one with Down syndrome and are new to Montgomery
  County?  Are you wondering what DSNMC can offer you? If you answered yes 
 to these questions\, please attend our New Family Picnic.  This event is g
 eared towards younger families and families who haven't been introduced to
  DSNMC.  The New Family Committee members will be in attendance to welcome
  you.  \nGriffith Park has parking\, a tot lot\, bathrooms\, and a covered
  pavilion\, so this event will occur rain or shine.  Pre-registration is r
 equired.
X-WR-RELCALID:718a2b03097f6141b6b1cc68412cbdd5
X-WR-TIMEZONE:America/New_York
BEGIN:VTIMEZONE
TZID:America/New_York
BEGIN:STANDARD
TZNAME:EST
DTSTART:20211107T020000
TZOFFSETFROM:-0400
TZOFFSETTO:-0500
RDATE:20221106T020000
RDATE:20231105T020000
END:STANDARD
BEGIN:DAYLIGHT
TZNAME:EDT
DTSTART:20220313T020000
TZOFFSETFROM:-0500
TZOFFSETTO:-0400
RDATE:20230312T020000
END:DAYLIGHT
END:VTIMEZONE
BEGIN:VEVENT
UID:89258a03-fe78-4829-a847-0047b21b14c4
DTSTAMP:20260421T050332Z
DESCRIPTION:Have you had a baby with Down syndrome born in the past few yea
 rs?  Do you have a loved one with Down syndrome and are new to Montgomery 
 County?  Are you wondering what DSNMC can offer you? If you answered yes t
 o these questions\, please attend our New Family Picnic.  This event is ge
 ared towards younger families and families who haven't been introduced to 
 DSNMC.  The New Family Committee members will be in attendance to welcome 
 you.  \nGriffith Park has parking\, a tot lot\, bathrooms\, and a covered 
 pavilion\, so this event will occur rain or shine.  Pre-registration is re
 quired.
DTSTART;TZID=America/New_York:20220515T100000
DTEND;TZID=America/New_York:20220515T120000
LOCATION:Griffith Park\, 29 South Summit Avenue\, Gaithersburg\, MD 20877 U
 S
SUMMARY:New Family Breakfast
END:VEVENT
END:VCALENDAR
