BEGIN:VCALENDAR
VERSION:2.0
PRODID:-//dsnmc.org//NONSGML kigkonsult.se iCalcreator 2.30.10//
CALSCALE:GREGORIAN
METHOD:PUBLISH
UID:a024f7fa-c51a-47bb-b1f9-923f2e07d4c2
X-WR-CALDESC:
X-WR-RELCALID:697f076a61880cdd0759e0a308677281
X-WR-TIMEZONE:America/New_York
BEGIN:VTIMEZONE
TZID:America/New_York
BEGIN:STANDARD
TZNAME:EST
DTSTART:20211107T020000
TZOFFSETFROM:-0400
TZOFFSETTO:-0500
RDATE:20221106T020000
RDATE:20231105T020000
END:STANDARD
BEGIN:DAYLIGHT
TZNAME:EDT
DTSTART:20220313T020000
TZOFFSETFROM:-0500
TZOFFSETTO:-0400
RDATE:20230312T020000
END:DAYLIGHT
END:VTIMEZONE
BEGIN:VEVENT
UID:e7f1d98b-3049-4f95-a2e1-fdc4ef5cad28
DTSTAMP:20260421T045723Z
DESCRIPTION:
DTSTART;TZID=America/New_York:20220516T190000
DTEND;TZID=America/New_York:20220516T210000
LOCATION:
SUMMARY:Board Meeting
END:VEVENT
END:VCALENDAR
