BEGIN:VCALENDAR
VERSION:2.0
PRODID:-//dsnmc.org//NONSGML kigkonsult.se iCalcreator 2.30.10//
CALSCALE:GREGORIAN
METHOD:PUBLISH
UID:52f29053-de8e-4da4-81c6-6ea6eba9ad4e
X-WR-CALDESC:Self-direction\, sometimes called consumer-direction or partic
 ipant-direction\, provides participants a greater degree of choice in how 
 services are delivered\, when\, where\, and the rate of payment. The core 
 functions of self-direction are CHOICE and CONTROL over how services are p
 rovided\, and who is being paid to provide these services. The DDA's Famil
 y Supports Waiver\, Community Supports Waiver\, and Community Pathways Wai
 ver all offers the option of self-direct services.
X-WR-RELCALID:603c5ad09930377c0ac07f4fefa0066d
X-WR-TIMEZONE:America/New_York
BEGIN:VTIMEZONE
TZID:America/New_York
BEGIN:STANDARD
TZNAME:EST
DTSTART:20211107T020000
TZOFFSETFROM:-0400
TZOFFSETTO:-0500
RDATE:20221106T020000
RDATE:20231105T020000
END:STANDARD
BEGIN:DAYLIGHT
TZNAME:EDT
DTSTART:20220313T020000
TZOFFSETFROM:-0500
TZOFFSETTO:-0400
RDATE:20230312T020000
END:DAYLIGHT
END:VTIMEZONE
BEGIN:VEVENT
UID:86e7dffe-07f7-45b3-99e5-13aa3f2ef507
DTSTAMP:20260421T045723Z
DESCRIPTION:Self-direction\, sometimes called consumer-direction or partici
 pant-direction\, provides participants a greater degree of choice in how s
 ervices are delivered\, when\, where\, and the rate of payment. The core f
 unctions of self-direction are CHOICE and CONTROL over how services are pr
 ovided\, and who is being paid to provide these services. The DDA's Family
  Supports Waiver\, Community Supports Waiver\, and Community Pathways Waiv
 er all offers the option of self-direct services.
DTSTART;TZID=America/New_York:20220518T190000
DTEND;TZID=America/New_York:20220518T200000
LOCATION:https://us02web.zoom.us/webinar/register/WN_kBWQHfYASiO9SabqEvYdIw
SUMMARY:Transition Times Special Meeting- Self Directed Services
END:VEVENT
END:VCALENDAR
