BEGIN:VCALENDAR
VERSION:2.0
PRODID:-//dsnmc.org//NONSGML kigkonsult.se iCalcreator 2.30.10//
CALSCALE:GREGORIAN
METHOD:PUBLISH
UID:5e308118-63d1-40de-82ac-53e5e98a2f7a
X-WR-CALDESC:Join us virtually to help plan our biggest event of the year! 
  We need lots of helpers to plan this special day.
X-WR-RELCALID:2ac24b6ac14c34ed9c7188123c6401b1
X-WR-TIMEZONE:America/New_York
BEGIN:VTIMEZONE
TZID:America/New_York
BEGIN:STANDARD
TZNAME:EST
DTSTART:20211107T020000
TZOFFSETFROM:-0400
TZOFFSETTO:-0500
RDATE:20221106T020000
RDATE:20231105T020000
END:STANDARD
BEGIN:DAYLIGHT
TZNAME:EDT
DTSTART:20220313T020000
TZOFFSETFROM:-0500
TZOFFSETTO:-0400
RDATE:20230312T020000
END:DAYLIGHT
END:VTIMEZONE
BEGIN:VEVENT
UID:47ea7e5d-e0bd-483c-8fb6-c72fb9b3b91c
DTSTAMP:20260421T045658Z
DESCRIPTION:Join us virtually to help plan our biggest event of the year!  
 We need lots of helpers to plan this special day.
DTSTART;TZID=America/New_York:20220519T193000
DTEND;TZID=America/New_York:20220519T210000
LOCATION:
SUMMARY:Step Up Walk Committee Meeting
END:VEVENT
END:VCALENDAR
