BEGIN:VCALENDAR
VERSION:2.0
PRODID:-//dsnmc.org//NONSGML kigkonsult.se iCalcreator 2.30.10//
CALSCALE:GREGORIAN
METHOD:PUBLISH
UID:385b551f-1ba6-4385-a1fe-243fc69c5a03
X-WR-CALDESC:On May 25th\, we’ll be having a conversation about experiences
  caregivers of African American/Black people with Down syndrome have when 
 accessing care for their loved ones. This session will be led by Albert Pl
 ess\, Jr\, from the Massachusetts General Hospital Down Syndrome Program\,
  a group that has been interviewing parents\, caregivers and doctors acros
 s the United States.\n\nDuring the event we’ll also do a cookie decorating
  activity\, a kit for the whole family to use will be sent to your house a
 head of time! Additionally\, you’ll get a free code to use DSC2U\, an onli
 ne personalized healthcare plan for people with Down syndrome - $49 value!
 \n\nWhat you will learn by participating:\n\nFrom caregivers about barrier
 s that Black/African American and Spanish Speaking caregivers face when ac
 cessing care for their loved ones with Down syndrome\nAbout strategies tha
 t Down Syndrome organizations can to support Black/African American and Sp
 anish speaking caregivers\nFrom primary care physicians about strategies a
 nd observations that support caregivers and their loved ones with Down Syn
 drome in the healthcare setting\nWhat you get for attending:\n\nA cookie d
 ecorating kit that will be sent to your home\nA free code to use DSC2U\nAn
  opportunity to share ideas and get feedbac
X-WR-RELCALID:becbcac27345fcfeb51dada59ef405fd
X-WR-TIMEZONE:America/New_York
BEGIN:VTIMEZONE
TZID:America/New_York
BEGIN:STANDARD
TZNAME:EST
DTSTART:20211107T020000
TZOFFSETFROM:-0400
TZOFFSETTO:-0500
RDATE:20221106T020000
RDATE:20231105T020000
END:STANDARD
BEGIN:DAYLIGHT
TZNAME:EDT
DTSTART:20220313T020000
TZOFFSETFROM:-0500
TZOFFSETTO:-0400
RDATE:20230312T020000
END:DAYLIGHT
END:VTIMEZONE
BEGIN:VEVENT
UID:c730649f-0c5f-41f7-9191-afaaecd9d717
DTSTAMP:20260421T050326Z
DESCRIPTION:On May 25th\, we’ll be having a conversation about experiences 
 caregivers of African American/Black people with Down syndrome have when a
 ccessing care for their loved ones. This session will be led by Albert Ple
 ss\, Jr\, from the Massachusetts General Hospital Down Syndrome Program\, 
 a group that has been interviewing parents\, caregivers and doctors across
  the United States.\n\nDuring the event we’ll also do a cookie decorating 
 activity\, a kit for the whole family to use will be sent to your house ah
 ead of time! Additionally\, you’ll get a free code to use DSC2U\, an onlin
 e personalized healthcare plan for people with Down syndrome - $49 value!
 \n\nWhat you will learn by participating:\n\nFrom caregivers about barrier
 s that Black/African American and Spanish Speaking caregivers face when ac
 cessing care for their loved ones with Down syndrome\nAbout strategies tha
 t Down Syndrome organizations can to support Black/African American and Sp
 anish speaking caregivers\nFrom primary care physicians about strategies a
 nd observations that support caregivers and their loved ones with Down Syn
 drome in the healthcare setting\nWhat you get for attending:\n\nA cookie d
 ecorating kit that will be sent to your home\nA free code to use DSC2U\nAn
  opportunity to share ideas and get feedbac
DTSTART;TZID=America/New_York:20220525T190000
DTEND;TZID=America/New_York:20220525T203000
LOCATION:https://dsnmc.networkforgood.com/events/42400-join-us-in-conversat
 ion-a-program-for-african-american-black-caregivers
SUMMARY:Mass General Awareness Trip to talk about barriers which POC experi
 ence securing services for loved ones with Ds
END:VEVENT
END:VCALENDAR
