BEGIN:VCALENDAR
VERSION:2.0
PRODID:-//dsnmc.org//NONSGML kigkonsult.se iCalcreator 2.30.10//
CALSCALE:GREGORIAN
METHOD:PUBLISH
UID:2c5c3bd2-cc17-47d5-a502-d01a295ca2b7
X-WR-CALDESC:Join your friends in person for an Art Stream class at Main St
 reet on Sunday\, June 5th\, from 3:00 - 4:30. While the self-advocates are
  working on communication skills\, there will be an additional room availa
 ble for parents to congregate and socialize. Mary Ann Dawedeit will be on 
 hand to welcome self-advocates and parents!\n\nIn order to support Main St
 reet\, snacks are available for purchase from the Main Street Soulful Cafe
 \n\nThis class is limited to 10 participants.\n\nArt Stream requires proof
  of full vaccination (at least 2 weeks past your second dose)\, and you mu
 st wear a mask and social distance. They recommend a high filtration mask 
 such as an N95 or KN95 mask instead of a cloth mask. These are generally a
 vailable for free at libraries\, drug stores\, and county facilities. ArtS
 tream staff will be masked for the duration of the class.\n\nWhen you regi
 ster\, send a copy of your vaccination card to Joy Stein at admin@dsnmc.or
 g
X-WR-RELCALID:cca14d6465b986ebc8d1f75ce82dba59
X-WR-TIMEZONE:America/New_York
BEGIN:VTIMEZONE
TZID:America/New_York
BEGIN:STANDARD
TZNAME:EST
DTSTART:20211107T020000
TZOFFSETFROM:-0400
TZOFFSETTO:-0500
RDATE:20221106T020000
RDATE:20231105T020000
END:STANDARD
BEGIN:DAYLIGHT
TZNAME:EDT
DTSTART:20220313T020000
TZOFFSETFROM:-0500
TZOFFSETTO:-0400
RDATE:20230312T020000
END:DAYLIGHT
END:VTIMEZONE
BEGIN:VEVENT
UID:c306eae8-5ead-4c5e-a95f-9bb85fa4b0f5
DTSTAMP:20260421T034631Z
DESCRIPTION:Join your friends in person for an Art Stream class at Main Str
 eet on Sunday\, June 5th\, from 3:00 - 4:30. While the self-advocates are 
 working on communication skills\, there will be an additional room availab
 le for parents to congregate and socialize. Mary Ann Dawedeit will be on h
 and to welcome self-advocates and parents!\n\nIn order to support Main Str
 eet\, snacks are available for purchase from the Main Street Soulful Cafe
 \n\nThis class is limited to 10 participants.\n\nArt Stream requires proof
  of full vaccination (at least 2 weeks past your second dose)\, and you mu
 st wear a mask and social distance. They recommend a high filtration mask 
 such as an N95 or KN95 mask instead of a cloth mask. These are generally a
 vailable for free at libraries\, drug stores\, and county facilities. ArtS
 tream staff will be masked for the duration of the class.\n\nWhen you regi
 ster\, send a copy of your vaccination card to Joy Stein at admin@dsnmc.or
 g
DTSTART;TZID=America/New_York:20220605T150000
DTEND;TZID=America/New_York:20220605T163000
LOCATION:Main Street\, 50 Monroe Place\, Rocville\, MD 20850 US
SUMMARY:ArtStream Positively Speaking Workshop
END:VEVENT
END:VCALENDAR
