BEGIN:VCALENDAR
VERSION:2.0
PRODID:-//dsnmc.org//NONSGML kigkonsult.se iCalcreator 2.30.10//
CALSCALE:GREGORIAN
METHOD:PUBLISH
UID:73e94e14-25e1-486b-9179-25dbc61a9990
X-WR-CALDESC:Únase a nuestras reuniones en español el segundo lunes de cada
  mes. Envíe un correo electrónico a nuestro coordinador de grupo latino pa
 ra recibir la información de la reunión de Zoom.\n\nCome join our all-Span
 ish meetings the second Monday of every month. Email our Latino group coor
 dinator to receive the Zoom meeting information.
X-WR-RELCALID:df788819173b22fc5cb9091e5eae7cbe
X-WR-TIMEZONE:America/New_York
BEGIN:VTIMEZONE
TZID:America/New_York
BEGIN:STANDARD
TZNAME:EST
DTSTART:20211107T020000
TZOFFSETFROM:-0400
TZOFFSETTO:-0500
RDATE:20221106T020000
RDATE:20231105T020000
END:STANDARD
BEGIN:DAYLIGHT
TZNAME:EDT
DTSTART:20220313T020000
TZOFFSETFROM:-0500
TZOFFSETTO:-0400
RDATE:20230312T020000
END:DAYLIGHT
END:VTIMEZONE
BEGIN:VEVENT
UID:c6fc3042-103b-4b31-89f5-116dd35074fd
DTSTAMP:20260421T035654Z
DESCRIPTION:Únase a nuestras reuniones en español el segundo lunes de cada 
 mes. Envíe un correo electrónico a nuestro coordinador de grupo latino par
 a recibir la información de la reunión de Zoom.\n\nCome join our all-Spani
 sh meetings the second Monday of every month. Email our Latino group coord
 inator to receive the Zoom meeting information.
DTSTART;TZID=America/New_York:20220613T190000
DTEND;TZID=America/New_York:20220613T203000
LOCATION:https://us02web.zoom.us/j/82584457414?pwd=R2h1M2hMRW8zM2FSZlpiYnBY
 QjhCUT09
SUMMARY:DSNMC Latino Group Meetings
END:VEVENT
END:VCALENDAR
