BEGIN:VCALENDAR
VERSION:2.0
PRODID:-//dsnmc.org//NONSGML kigkonsult.se iCalcreator 2.30.10//
CALSCALE:GREGORIAN
METHOD:PUBLISH
UID:c878d6b4-ac15-4778-a464-b363e47fa080
X-WR-CALDESC:https://dsnmc.networkforgood.com/events/42895-summer-picnic-an
 d-membership-gathering\n\nJoin us at Black Hill Regional Park in Boyds\, P
 icnic Shelter C\, for food\, games\, and friendship. Jersey Mike's is prov
 iding sandwiches\, chips\, drinks\, and dessert. This in-person event will
  occur rain or shine! The cost to attend this event is $5.00 per person\; 
 children 3 and under are free.\n\nÚnase a nosotros en Black Hill Regional 
 Park en Boyds\, Picnic Shelter C\, para comida\, juegos y amistad. Jersey 
 Mike's ofrece sándwiches\, papas fritas\, bebidas y postres. ¡Este evento 
 en persona ocurrirá llueva o truene! El costo para asistir a este evento e
 s de $5.00 por persona\; los niños menores de 3 años entran gratis.
X-WR-RELCALID:430ad21fb176abd1d543259d02b58251
X-WR-TIMEZONE:America/New_York
BEGIN:VTIMEZONE
TZID:America/New_York
BEGIN:STANDARD
TZNAME:EST
DTSTART:20211107T020000
TZOFFSETFROM:-0400
TZOFFSETTO:-0500
RDATE:20221106T020000
RDATE:20231105T020000
END:STANDARD
BEGIN:DAYLIGHT
TZNAME:EDT
DTSTART:20220313T020000
TZOFFSETFROM:-0500
TZOFFSETTO:-0400
RDATE:20230312T020000
END:DAYLIGHT
END:VTIMEZONE
BEGIN:VEVENT
UID:61186d26-405c-4346-a20b-61e75ef093ad
DTSTAMP:20260421T035837Z
DESCRIPTION:https://dsnmc.networkforgood.com/events/42895-summer-picnic-and
 -membership-gathering\n\nJoin us at Black Hill Regional Park in Boyds\, Pi
 cnic Shelter C\, for food\, games\, and friendship. Jersey Mike's is provi
 ding sandwiches\, chips\, drinks\, and dessert. This in-person event will 
 occur rain or shine! The cost to attend this event is $5.00 per person\; c
 hildren 3 and under are free.\n\nÚnase a nosotros en Black Hill Regional P
 ark en Boyds\, Picnic Shelter C\, para comida\, juegos y amistad. Jersey M
 ike's ofrece sándwiches\, papas fritas\, bebidas y postres. ¡Este evento e
 n persona ocurrirá llueva o truene! El costo para asistir a este evento es
  de $5.00 por persona\; los niños menores de 3 años entran gratis.
DTSTART;TZID=America/New_York:20220626T113000
DTEND;TZID=America/New_York:20220626T140000
LOCATION:Black Hills Regional Park\, Picnic Shelter C\, 20930 Lake Ridge Dr
 ive\, Boyds\, MD 20841 US
SUMMARY:DSNMC Summer Picnic
END:VEVENT
END:VCALENDAR
