BEGIN:VCALENDAR
VERSION:2.0
PRODID:-//dsnmc.org//NONSGML kigkonsult.se iCalcreator 2.30.10//
CALSCALE:GREGORIAN
METHOD:PUBLISH
UID:a56733c4-f4fe-4f31-8d66-627cd4565b3a
X-WR-CALDESC:
X-WR-RELCALID:1965a2afa7bf7c9ea9a36e6ccc5452d9
X-WR-TIMEZONE:America/New_York
BEGIN:VTIMEZONE
TZID:America/New_York
BEGIN:STANDARD
TZNAME:EST
DTSTART:20211107T020000
TZOFFSETFROM:-0400
TZOFFSETTO:-0500
RDATE:20221106T020000
RDATE:20231105T020000
END:STANDARD
BEGIN:DAYLIGHT
TZNAME:EDT
DTSTART:20220313T020000
TZOFFSETFROM:-0500
TZOFFSETTO:-0400
RDATE:20230312T020000
END:DAYLIGHT
END:VTIMEZONE
BEGIN:VEVENT
UID:cd6859fe-5428-4264-ac9e-fe0748cfeb8c
DTSTAMP:20260421T024132Z
DESCRIPTION:
DTSTART;TZID=America/New_York:20220704T203000
DTEND;TZID=America/New_York:20220704T214500
LOCATION:
SUMMARY:New Family Committee Meeting-canceled
END:VEVENT
END:VCALENDAR
