BEGIN:VCALENDAR
VERSION:2.0
PRODID:-//dsnmc.org//NONSGML kigkonsult.se iCalcreator 2.30.10//
CALSCALE:GREGORIAN
METHOD:PUBLISH
UID:2346a4c1-1816-415b-9bc8-3fc2c8b5d1d6
X-WR-CALDESC:Cool off with DSNMC on Tuesday\, July 12th at the SplashPark! 
 The SplashPark is reserved just for DSNMC families from 6-8 pm.\n\nThe Spl
 ashPark is one of the most popular features of South Germantown Recreation
 al Park. Kids will have an excellent time and stay cool playing in the one
 -of-a-kind 280-jet water maze\, cave with a waterfall\, water bucket drops
 \, slide\, and spraying animals. Tables and umbrellas provide shaded rest 
 areas. On-site restrooms\, changing rooms\, and vending machines are avail
 able. The SplashPark also features a fun Jumping Pillow that will keep kid
 s hopping all day long!\n\nTickets are $3.00 per person. (All patrons age 
 two and up who come into the SplashPark must pay admission).\n\nBring your
  own picnic dinner - as well as bathing suits and towels.\n\nThis event wi
 ll occur rain or shine. During rainy days\, the SplashPark will remain ope
 n except in the case of extreme weather conditions (thunder and lightning)
 .
X-WR-RELCALID:2a74ac9aa9b67d20d7799ebfd913ef53
X-WR-TIMEZONE:America/New_York
BEGIN:VTIMEZONE
TZID:America/New_York
BEGIN:STANDARD
TZNAME:EST
DTSTART:20211107T020000
TZOFFSETFROM:-0400
TZOFFSETTO:-0500
RDATE:20221106T020000
RDATE:20231105T020000
END:STANDARD
BEGIN:DAYLIGHT
TZNAME:EDT
DTSTART:20220313T020000
TZOFFSETFROM:-0500
TZOFFSETTO:-0400
RDATE:20230312T020000
END:DAYLIGHT
END:VTIMEZONE
BEGIN:VEVENT
UID:9f0ffd98-476f-43ec-a86b-9f33a1d54b03
DTSTAMP:20260421T024037Z
DESCRIPTION:Cool off with DSNMC on Tuesday\, July 12th at the SplashPark! T
 he SplashPark is reserved just for DSNMC families from 6-8 pm.\n\nThe Spla
 shPark is one of the most popular features of South Germantown Recreationa
 l Park. Kids will have an excellent time and stay cool playing in the one-
 of-a-kind 280-jet water maze\, cave with a waterfall\, water bucket drops\
 , slide\, and spraying animals. Tables and umbrellas provide shaded rest a
 reas. On-site restrooms\, changing rooms\, and vending machines are availa
 ble. The SplashPark also features a fun Jumping Pillow that will keep kids
  hopping all day long!\n\nTickets are $3.00 per person. (All patrons age t
 wo and up who come into the SplashPark must pay admission).\n\nBring your 
 own picnic dinner - as well as bathing suits and towels.\n\nThis event wil
 l occur rain or shine. During rainy days\, the SplashPark will remain open
  except in the case of extreme weather conditions (thunder and lightning).
DTSTART;TZID=America/New_York:20220712T180000
DTEND;TZID=America/New_York:20220712T200000
LOCATION:South Germantown Recreation Center\, 18056 Central Park Circle\, B
 oyds\, MD 20841 US
SUMMARY:SplashPark Family Outing (Postponed due to Inclement Weather)
END:VEVENT
END:VCALENDAR
