BEGIN:VCALENDAR
VERSION:2.0
PRODID:-//dsnmc.org//NONSGML kigkonsult.se iCalcreator 2.30.10//
CALSCALE:GREGORIAN
METHOD:PUBLISH
UID:de6ae9ca-251b-4c57-9e30-7c98c17cb6b2
X-WR-CALDESC:
X-WR-RELCALID:e90e9f544f42e29aee8674b4cbbd78a0
X-WR-TIMEZONE:America/New_York
BEGIN:VTIMEZONE
TZID:America/New_York
BEGIN:STANDARD
TZNAME:EST
DTSTART:20211107T020000
TZOFFSETFROM:-0400
TZOFFSETTO:-0500
RDATE:20221106T020000
RDATE:20231105T020000
END:STANDARD
BEGIN:DAYLIGHT
TZNAME:EDT
DTSTART:20220313T020000
TZOFFSETFROM:-0500
TZOFFSETTO:-0400
RDATE:20230312T020000
END:DAYLIGHT
END:VTIMEZONE
BEGIN:VEVENT
UID:1e70128f-9605-4adf-943c-a4d008bcae48
DTSTAMP:20260421T023935Z
DESCRIPTION:
DTSTART;TZID=America/New_York:20220719T190000
DTEND;TZID=America/New_York:20220719T210000
LOCATION:
SUMMARY:New Family Committee First Call Training
END:VEVENT
END:VCALENDAR
