BEGIN:VCALENDAR
VERSION:2.0
PRODID:-//dsnmc.org//NONSGML kigkonsult.se iCalcreator 2.30.10//
CALSCALE:GREGORIAN
METHOD:PUBLISH
UID:c9691e17-396a-44cb-a7ac-30c017d58260
X-WR-CALDESC:
X-WR-RELCALID:38ddcc904e7bb6a02a6b25fa55aeb178
X-WR-TIMEZONE:America/New_York
BEGIN:VTIMEZONE
TZID:America/New_York
BEGIN:STANDARD
TZNAME:EST
DTSTART:20211107T020000
TZOFFSETFROM:-0400
TZOFFSETTO:-0500
RDATE:20221106T020000
RDATE:20231105T020000
END:STANDARD
BEGIN:DAYLIGHT
TZNAME:EDT
DTSTART:20220313T020000
TZOFFSETFROM:-0500
TZOFFSETTO:-0400
RDATE:20230312T020000
END:DAYLIGHT
END:VTIMEZONE
BEGIN:VEVENT
UID:c4534c48-b9ed-4ac4-a2b7-9748226d21fd
DTSTAMP:20260421T023358Z
DESCRIPTION:
DTSTART;TZID=America/New_York:20220721T190000
DTEND;TZID=America/New_York:20220721T210000
LOCATION:
SUMMARY:Board Meeting
END:VEVENT
END:VCALENDAR
