BEGIN:VCALENDAR
VERSION:2.0
PRODID:-//dsnmc.org//NONSGML kigkonsult.se iCalcreator 2.30.10//
CALSCALE:GREGORIAN
METHOD:PUBLISH
UID:b17c4045-01f1-4aa0-be91-39589a25208d
X-WR-CALDESC:Cool off with DSNMC on Friday\, July 22nd at the SplashPark! T
 he SplashPark is reserved just for DSNMC families from 6-8 pm.\n\nThe Spla
 shPark is one of the most popular features of South Germantown Recreationa
 l Park. Kids of all ages will have an excellent time and stay cool playing
  in the one-of-a-kind 280-jet water maze\, cave with a waterfall\, water b
 ucket drops\, slide\, and spraying animals. Tables and umbrellas provide s
 haded rest areas. On-site restrooms\, changing rooms\, and vending machine
 s are available. The SplashPark also features a fun Jumping Pillow that wi
 ll keep kids hopping all day long!\n\nTickets are $3.00 per person. (All p
 atrons age two and up who come into the SplashPark must pay admission).\n
 \nBring your own picnic dinner - as well as bathing suits and towels.\n\nT
 his event will occur rain or shine. During rainy days\, the SplashPark wil
 l remain open except in the case of extreme weather conditions (thunder an
 d lightning).
X-WR-RELCALID:0197d802b7d2a1a2dfc18ed228f634a7
X-WR-TIMEZONE:America/New_York
BEGIN:VTIMEZONE
TZID:America/New_York
BEGIN:STANDARD
TZNAME:EST
DTSTART:20211107T020000
TZOFFSETFROM:-0400
TZOFFSETTO:-0500
RDATE:20221106T020000
RDATE:20231105T020000
END:STANDARD
BEGIN:DAYLIGHT
TZNAME:EDT
DTSTART:20220313T020000
TZOFFSETFROM:-0500
TZOFFSETTO:-0400
RDATE:20230312T020000
END:DAYLIGHT
END:VTIMEZONE
BEGIN:VEVENT
UID:90d154d3-0c28-4a08-b21f-a4fe75155857
DTSTAMP:20260421T023813Z
DESCRIPTION:Cool off with DSNMC on Friday\, July 22nd at the SplashPark! Th
 e SplashPark is reserved just for DSNMC families from 6-8 pm.\n\nThe Splas
 hPark is one of the most popular features of South Germantown Recreational
  Park. Kids of all ages will have an excellent time and stay cool playing 
 in the one-of-a-kind 280-jet water maze\, cave with a waterfall\, water bu
 cket drops\, slide\, and spraying animals. Tables and umbrellas provide sh
 aded rest areas. On-site restrooms\, changing rooms\, and vending machines
  are available. The SplashPark also features a fun Jumping Pillow that wil
 l keep kids hopping all day long!\n\nTickets are $3.00 per person. (All pa
 trons age two and up who come into the SplashPark must pay admission).\n\n
 Bring your own picnic dinner - as well as bathing suits and towels.\n\nThi
 s event will occur rain or shine. During rainy days\, the SplashPark will 
 remain open except in the case of extreme weather conditions (thunder and 
 lightning).
DTSTART;TZID=America/New_York:20220722T180000
DTEND;TZID=America/New_York:20220722T200000
LOCATION:South Germantown Recreation Center\, 18056 Central Park Circle\, B
 oyds\, MD 20841 US
SUMMARY:SplashPark Family Outing (Postponed due to Inclement Weather)
END:VEVENT
END:VCALENDAR
