BEGIN:VCALENDAR
VERSION:2.0
PRODID:-//dsnmc.org//NONSGML kigkonsult.se iCalcreator 2.30.10//
CALSCALE:GREGORIAN
METHOD:PUBLISH
UID:07492f3a-1a91-4de0-93b4-5efdaf5322f8
X-WR-CALDESC:Please join us at our virtual Step Up Walk Planning Meeting.  
 We need lots of volunteers to plan and execute this event.  All are welcom
 e to participate. Email admin@dsnmc to receive the zoom link.
X-WR-RELCALID:49d8b2c49ebe709ad06502cfbdb2c97f
X-WR-TIMEZONE:America/New_York
BEGIN:VTIMEZONE
TZID:America/New_York
BEGIN:STANDARD
TZNAME:EST
DTSTART:20211107T020000
TZOFFSETFROM:-0400
TZOFFSETTO:-0500
RDATE:20221106T020000
RDATE:20231105T020000
END:STANDARD
BEGIN:DAYLIGHT
TZNAME:EDT
DTSTART:20220313T020000
TZOFFSETFROM:-0500
TZOFFSETTO:-0400
RDATE:20230312T020000
END:DAYLIGHT
END:VTIMEZONE
BEGIN:VEVENT
UID:27edabdd-3e3d-4362-a210-185b227aac30
DTSTAMP:20260421T023438Z
DESCRIPTION:Please join us at our virtual Step Up Walk Planning Meeting.  W
 e need lots of volunteers to plan and execute this event.  All are welcome
  to participate. Email admin@dsnmc to receive the zoom link.
DTSTART;TZID=America/New_York:20220728T193000
DTEND;TZID=America/New_York:20220728T210000
LOCATION:
SUMMARY:Step Up Walk Planning Committee Meeting
END:VEVENT
END:VCALENDAR
