BEGIN:VCALENDAR
VERSION:2.0
PRODID:-//dsnmc.org//NONSGML kigkonsult.se iCalcreator 2.30.10//
CALSCALE:GREGORIAN
METHOD:PUBLISH
UID:33f8202d-49d1-4dc9-9c2f-89b09ad8341d
X-WR-CALDESC:
X-WR-RELCALID:3f7d01386e21983942647dfb505c77a3
X-WR-TIMEZONE:America/New_York
BEGIN:VTIMEZONE
TZID:America/New_York
BEGIN:STANDARD
TZNAME:EST
DTSTART:20211107T020000
TZOFFSETFROM:-0400
TZOFFSETTO:-0500
RDATE:20221106T020000
RDATE:20231105T020000
END:STANDARD
BEGIN:DAYLIGHT
TZNAME:EDT
DTSTART:20220313T020000
TZOFFSETFROM:-0500
TZOFFSETTO:-0400
RDATE:20230312T020000
END:DAYLIGHT
END:VTIMEZONE
BEGIN:VEVENT
UID:9d6b43c7-774b-4d5c-ab53-ae4d44d61e43
DTSTAMP:20260421T012259Z
DESCRIPTION:
DTSTART;TZID=America/New_York:20220815T190000
DTEND;TZID=America/New_York:20220815T210000
LOCATION:
SUMMARY:Board Meeting
END:VEVENT
END:VCALENDAR
