BEGIN:VCALENDAR
VERSION:2.0
PRODID:-//dsnmc.org//NONSGML kigkonsult.se iCalcreator 2.30.10//
CALSCALE:GREGORIAN
METHOD:PUBLISH
UID:3d0f1705-428f-4c0c-8f6c-3fb429dcde3c
X-WR-CALDESC:Please join us at our virtual Step Up Walk Planning Meeting.  
 We need lots of volunteers to plan and execute this event.  All are welcom
 e to participate.
X-WR-RELCALID:d047709f3c90f25e1d040dc4704ae7aa
X-WR-TIMEZONE:America/New_York
BEGIN:VTIMEZONE
TZID:America/New_York
BEGIN:STANDARD
TZNAME:EST
DTSTART:20211107T020000
TZOFFSETFROM:-0400
TZOFFSETTO:-0500
RDATE:20221106T020000
RDATE:20231105T020000
END:STANDARD
BEGIN:DAYLIGHT
TZNAME:EDT
DTSTART:20220313T020000
TZOFFSETFROM:-0500
TZOFFSETTO:-0400
RDATE:20230312T020000
END:DAYLIGHT
END:VTIMEZONE
BEGIN:VEVENT
UID:04124b50-e1bd-4ecc-85ab-43cdc10b6d5f
DTSTAMP:20260421T012214Z
DESCRIPTION:Please join us at our virtual Step Up Walk Planning Meeting.  W
 e need lots of volunteers to plan and execute this event.  All are welcome
  to participate.
DTSTART;TZID=America/New_York:20220824T193000
DTEND;TZID=America/New_York:20220824T210000
LOCATION:https://us02web.zoom.us/j/87276092884
SUMMARY:Step Up Walk Planning Committee Meeting
END:VEVENT
END:VCALENDAR
