BEGIN:VCALENDAR
VERSION:2.0
PRODID:-//dsnmc.org//NONSGML kigkonsult.se iCalcreator 2.30.10//
CALSCALE:GREGORIAN
METHOD:PUBLISH
UID:019f231e-1b78-421e-bc87-865768f0714e
X-WR-CALDESC:Playgroup in the Park!\n\nJoin other DSNMC families\, IN PERSO
 N\, at Greenbriar Park in Potomac on Sunday\, September 11th from 10:00 am
  to 12:00 noon. This is a great opportunity to meet other families in a re
 laxed setting while your children enjoy the playground.  This event is fre
 e\; pre-registration is required.  Click on this link to learn more about 
 Greenbriar Park: http://montgomeryparks.org/parks-and-trails/greenbriar-lo
 cal-park/
X-WR-RELCALID:d9b2a5ea16e6a33de08d10193376cc3f
X-WR-TIMEZONE:America/New_York
BEGIN:VTIMEZONE
TZID:America/New_York
BEGIN:STANDARD
TZNAME:EST
DTSTART:20211107T020000
TZOFFSETFROM:-0400
TZOFFSETTO:-0500
RDATE:20221106T020000
RDATE:20231105T020000
END:STANDARD
BEGIN:DAYLIGHT
TZNAME:EDT
DTSTART:20220313T020000
TZOFFSETFROM:-0500
TZOFFSETTO:-0400
RDATE:20230312T020000
RDATE:20240310T020000
END:DAYLIGHT
END:VTIMEZONE
BEGIN:VEVENT
UID:9b7e32af-21d6-4bb4-9871-3b6f373fca27
DTSTAMP:20260421T001215Z
DESCRIPTION:Playgroup in the Park!\n\nJoin other DSNMC families\, IN PERSON
 \, at Greenbriar Park in Potomac on Sunday\, September 11th from 10:00 am 
 to 12:00 noon. This is a great opportunity to meet other families in a rel
 axed setting while your children enjoy the playground.  This event is free
 \; pre-registration is required.  Click on this link to learn more about G
 reenbriar Park: http://montgomeryparks.org/parks-and-trails/greenbriar-loc
 al-park/
DTSTART;TZID=America/New_York:20220911T100000
DTEND;TZID=America/New_York:20220911T120000
LOCATION:12525 Glen Road\, Potomac\, MD 20854 US
SUMMARY:Playgroup in the Park
END:VEVENT
END:VCALENDAR
