BEGIN:VCALENDAR
VERSION:2.0
PRODID:-//dsnmc.org//NONSGML kigkonsult.se iCalcreator 2.30.10//
CALSCALE:GREGORIAN
METHOD:PUBLISH
UID:07517df1-8d0d-426f-92bb-673fec509d4f
X-WR-CALDESC:
X-WR-RELCALID:94d50f3fe100f01775098b4d18dee730
X-WR-TIMEZONE:America/New_York
BEGIN:VTIMEZONE
TZID:America/New_York
BEGIN:STANDARD
TZNAME:EST
DTSTART:20211107T020000
TZOFFSETFROM:-0400
TZOFFSETTO:-0500
RDATE:20221106T020000
RDATE:20231105T020000
END:STANDARD
BEGIN:DAYLIGHT
TZNAME:EDT
DTSTART:20220313T020000
TZOFFSETFROM:-0500
TZOFFSETTO:-0400
RDATE:20230312T020000
RDATE:20240310T020000
END:DAYLIGHT
END:VTIMEZONE
BEGIN:VEVENT
UID:3248b335-0dc2-42cb-8cec-bf4fd8e3afa6
DTSTAMP:20260421T001337Z
DESCRIPTION:
DTSTART;TZID=America/New_York:20220912T200000
DTEND;TZID=America/New_York:20220912T210000
LOCATION:
SUMMARY:Executive Committee Meeting
END:VEVENT
END:VCALENDAR
