BEGIN:VCALENDAR
VERSION:2.0
PRODID:-//dsnmc.org//NONSGML kigkonsult.se iCalcreator 2.30.10//
CALSCALE:GREGORIAN
METHOD:PUBLISH
UID:493f7bac-290f-42fa-a759-32276201b20b
X-WR-CALDESC:Join other DSNMC families for a Nationals game on Saturday\, S
 eptember 27th - the game begins at 4:05. We have 35 tickets available for 
 DSNMC families- tickets will be distributed on a first-come basis and will
  be emailed to you prior to the game.\n\nPre-register at https://dsnmc.net
 workforgood.com/events/47682-baseball-game-at-nats-stadium
X-WR-RELCALID:0dd03dd5062c299df4de8b6800bec8cb
X-WR-TIMEZONE:America/New_York
BEGIN:VTIMEZONE
TZID:America/New_York
BEGIN:STANDARD
TZNAME:EST
DTSTART:20211107T020000
TZOFFSETFROM:-0400
TZOFFSETTO:-0500
RDATE:20221106T020000
RDATE:20231105T020000
END:STANDARD
BEGIN:DAYLIGHT
TZNAME:EDT
DTSTART:20220313T020000
TZOFFSETFROM:-0500
TZOFFSETTO:-0400
RDATE:20230312T020000
RDATE:20240310T020000
END:DAYLIGHT
END:VTIMEZONE
BEGIN:VEVENT
UID:f019d406-e953-448d-8681-7f23c65e0772
DTSTAMP:20260421T001054Z
DESCRIPTION:Join other DSNMC families for a Nationals game on Saturday\, Se
 ptember 27th - the game begins at 4:05. We have 35 tickets available for D
 SNMC families- tickets will be distributed on a first-come basis and will 
 be emailed to you prior to the game.\n\nPre-register at https://dsnmc.netw
 orkforgood.com/events/47682-baseball-game-at-nats-stadium
DTSTART;TZID=America/New_York:20220917T160500
DTEND;TZID=America/New_York:20220917T210000
LOCATION:Nationals Park\, 1500 South Capital Street\, SE\, Washington\, DC 
 20003 US
SUMMARY:Nationals Baseball Game
END:VEVENT
END:VCALENDAR
