BEGIN:VCALENDAR
VERSION:2.0
PRODID:-//dsnmc.org//NONSGML kigkonsult.se iCalcreator 2.30.10//
CALSCALE:GREGORIAN
METHOD:PUBLISH
UID:fe6477ca-987a-42de-b813-c5969525b2f6
X-WR-CALDESC:Join your friends in person for an Art Stream class at Main St
 reet on Sunday\, September 18th\, from 3:00 - 4:30. The self-advocates wil
 l work on speeches they will present at the Step UP for Down Syndrome cele
 bration on October 15th. While the self-advocates are working on communica
 tion skills\, there will be an additional room available for parents to co
 ngregate and socialize. Mary Ann Dawedeit will be on hand to welcome self-
 advocates and parents!\n\n\nThis class is limited to 15 participants.\n\nA
 rt Stream requires proof of full vaccination (at least 2 weeks past your s
 econd dose)\, and you must wear a mask and social distance. They recommend
  a high filtration mask such as an N95 or KN95 mask instead of a cloth mas
 k. These are generally available for free at libraries\, drug stores\, and
  county facilities. ArtStream staff will be masked for the duration of the
  class.\n\nWhen you register\, send a copy of your vaccination card to Joy
  Stein at admin@dsnmc.org
X-WR-RELCALID:ce1c3e4ad8e5cdf443aaafec7aa165ab
X-WR-TIMEZONE:America/New_York
BEGIN:VTIMEZONE
TZID:America/New_York
BEGIN:STANDARD
TZNAME:EST
DTSTART:20211107T020000
TZOFFSETFROM:-0400
TZOFFSETTO:-0500
RDATE:20221106T020000
RDATE:20231105T020000
END:STANDARD
BEGIN:DAYLIGHT
TZNAME:EDT
DTSTART:20220313T020000
TZOFFSETFROM:-0500
TZOFFSETTO:-0400
RDATE:20230312T020000
RDATE:20240310T020000
END:DAYLIGHT
END:VTIMEZONE
BEGIN:VEVENT
UID:7a460c94-58d0-4c5d-bdc4-d0873ec6328d
DTSTAMP:20260421T001343Z
DESCRIPTION:Join your friends in person for an Art Stream class at Main Str
 eet on Sunday\, September 18th\, from 3:00 - 4:30. The self-advocates will
  work on speeches they will present at the Step UP for Down Syndrome celeb
 ration on October 15th. While the self-advocates are working on communicat
 ion skills\, there will be an additional room available for parents to con
 gregate and socialize. Mary Ann Dawedeit will be on hand to welcome self-a
 dvocates and parents!\n\n\nThis class is limited to 15 participants.\n\nAr
 t Stream requires proof of full vaccination (at least 2 weeks past your se
 cond dose)\, and you must wear a mask and social distance. They recommend 
 a high filtration mask such as an N95 or KN95 mask instead of a cloth mask
 . These are generally available for free at libraries\, drug stores\, and 
 county facilities. ArtStream staff will be masked for the duration of the 
 class.\n\nWhen you register\, send a copy of your vaccination card to Joy 
 Stein at admin@dsnmc.org
DTSTART;TZID=America/New_York:20220918T150000
DTEND;TZID=America/New_York:20220918T163000
LOCATION:Main Street\, 50 Monroe Place\, Rocville\, MD 20850 US
SUMMARY:ArtStream Positively Speaking Workshop
END:VEVENT
END:VCALENDAR
