BEGIN:VCALENDAR
VERSION:2.0
PRODID:-//dsnmc.org//NONSGML kigkonsult.se iCalcreator 2.30.10//
CALSCALE:GREGORIAN
METHOD:PUBLISH
UID:ee9a0702-ed7a-4681-b19c-51e07cd83da5
X-WR-CALDESC:
X-WR-RELCALID:e5fe204561de36412a895f09c90fdefe
X-WR-TIMEZONE:America/New_York
BEGIN:VTIMEZONE
TZID:America/New_York
BEGIN:STANDARD
TZNAME:EST
DTSTART:20211107T020000
TZOFFSETFROM:-0400
TZOFFSETTO:-0500
RDATE:20221106T020000
RDATE:20231105T020000
END:STANDARD
BEGIN:DAYLIGHT
TZNAME:EDT
DTSTART:20220313T020000
TZOFFSETFROM:-0500
TZOFFSETTO:-0400
RDATE:20230312T020000
RDATE:20240310T020000
END:DAYLIGHT
END:VTIMEZONE
BEGIN:VEVENT
UID:a961dad7-6700-4692-9c4b-9651ba670d87
DTSTAMP:20260421T001124Z
DESCRIPTION:
DTSTART;TZID=America/New_York:20220919T190000
DTEND;TZID=America/New_York:20220919T210000
LOCATION:
SUMMARY:Board Meeting
END:VEVENT
END:VCALENDAR
