BEGIN:VCALENDAR
VERSION:2.0
PRODID:-//dsnmc.org//NONSGML kigkonsult.se iCalcreator 2.30.10//
CALSCALE:GREGORIAN
METHOD:PUBLISH
UID:252ef7c0-159b-4593-b037-7a4c8dab1f0b
X-WR-CALDESC:Please join us at our virtual Step Up Walk Planning Meeting.  
 We need lots of volunteers to plan and execute this event.  All are welcom
 e to participate. The zoom link will be provided to you prior to the meeti
 ng.  Please email Joy at admin@dsnmc.org if you'd like to join the committ
 ee.
X-WR-RELCALID:47e661d7ee15d98fc663aebcc4c798ef
X-WR-TIMEZONE:America/New_York
BEGIN:VTIMEZONE
TZID:America/New_York
BEGIN:STANDARD
TZNAME:EST
DTSTART:20211107T020000
TZOFFSETFROM:-0400
TZOFFSETTO:-0500
RDATE:20221106T020000
RDATE:20231105T020000
END:STANDARD
BEGIN:DAYLIGHT
TZNAME:EDT
DTSTART:20220313T020000
TZOFFSETFROM:-0500
TZOFFSETTO:-0400
RDATE:20230312T020000
RDATE:20240310T020000
END:DAYLIGHT
END:VTIMEZONE
BEGIN:VEVENT
UID:1b729a43-499b-4933-b48b-acee9a743b80
DTSTAMP:20260421T001100Z
DESCRIPTION:Please join us at our virtual Step Up Walk Planning Meeting.  W
 e need lots of volunteers to plan and execute this event.  All are welcome
  to participate. The zoom link will be provided to you prior to the meetin
 g.  Please email Joy at admin@dsnmc.org if you'd like to join the committe
 e.
DTSTART;TZID=America/New_York:20220921T193000
DTEND;TZID=America/New_York:20220921T210000
LOCATION:Zoom link to be provided prior to the meeting
SUMMARY:Step Up Walk Planning Committee Meeting
END:VEVENT
END:VCALENDAR
