BEGIN:VCALENDAR
VERSION:2.0
PRODID:-//dsnmc.org//NONSGML kigkonsult.se iCalcreator 2.30.10//
CALSCALE:GREGORIAN
METHOD:PUBLISH
UID:8eef6b17-03ff-4ee9-afb0-610b11eeed0a
X-WR-CALDESC:Learn tips to increase communication at home.\n\nDSNMC present
 s Stephanie Popovici\, a speech- language pathologist from the MOCO Moveme
 nt Center. Stephanie will provide tips for developing and supporting langu
 age within the home. She will give a brief overview of whole child communi
 cation and will offer strategies to increase communication in daily routin
 es and activities\, such as meals and bedtime. You won't want to miss this
  virtual presentation which is suited for families of all ages.
X-WR-RELCALID:c8bf139c4a502ef27899c99bf350f7b8
X-WR-TIMEZONE:America/New_York
BEGIN:VTIMEZONE
TZID:America/New_York
BEGIN:STANDARD
TZNAME:EST
DTSTART:20211107T020000
TZOFFSETFROM:-0400
TZOFFSETTO:-0500
RDATE:20221106T020000
RDATE:20231105T020000
END:STANDARD
BEGIN:DAYLIGHT
TZNAME:EDT
DTSTART:20220313T020000
TZOFFSETFROM:-0500
TZOFFSETTO:-0400
RDATE:20230312T020000
RDATE:20240310T020000
END:DAYLIGHT
END:VTIMEZONE
BEGIN:VEVENT
UID:fd64451c-314d-46db-a128-55658ad71814
DTSTAMP:20260421T001449Z
DESCRIPTION:Learn tips to increase communication at home.\n\nDSNMC presents
  Stephanie Popovici\, a speech- language pathologist from the MOCO Movemen
 t Center. Stephanie will provide tips for developing and supporting langua
 ge within the home. She will give a brief overview of whole child communic
 ation and will offer strategies to increase communication in daily routine
 s and activities\, such as meals and bedtime. You won't want to miss this 
 virtual presentation which is suited for families of all ages.
DTSTART;TZID=America/New_York:20220929T193000
DTEND;TZID=America/New_York:20220929T203000
LOCATION:https://dsnmc.networkforgood.com/events/47965-strategies-to-facili
 tate-communication-virtual
SUMMARY:Strategies to facilitate communication
END:VEVENT
END:VCALENDAR
