BEGIN:VCALENDAR
VERSION:2.0
PRODID:-//dsnmc.org//NONSGML kigkonsult.se iCalcreator 2.30.10//
CALSCALE:GREGORIAN
METHOD:PUBLISH
UID:d3fa89e5-4a15-452f-a283-7a6b5dd11759
X-WR-CALDESC:Have you had a baby  born with Down syndrome in the past few y
 ears?  Do you have a loved one with Down syndrome and are new to Montgomer
 y County.  Are you wondering what DSNMC can offer you?  If you answered ye
 s to these questions\, please attend our New Family Picnic.  This event is
  geared towards younger families\, and families who haven't been introduce
 d to the DSNMC.  If you attended our May picnic\, you are welcome to atten
 df this one too!  The New Family Committee members will be in attendance t
 o welcome you.\n\nGriffith Park has parking\, a tot lot\, bathrooms and a 
 covered pavilion\, so this event will occur rain or shine.  Pre-registrati
 on is required at: \nhttps://dsnmc.networkforgood.com/events/46855-dsnmc-n
 ew-family-picnic
X-WR-RELCALID:c5456b0a4e503e363ba15bff71422cd4
X-WR-TIMEZONE:America/New_York
BEGIN:VTIMEZONE
TZID:America/New_York
BEGIN:STANDARD
TZNAME:EST
DTSTART:20211107T020000
TZOFFSETFROM:-0400
TZOFFSETTO:-0500
RDATE:20221106T020000
RDATE:20231105T020000
END:STANDARD
BEGIN:DAYLIGHT
TZNAME:EDT
DTSTART:20220313T020000
TZOFFSETFROM:-0500
TZOFFSETTO:-0400
RDATE:20230312T020000
RDATE:20240310T020000
END:DAYLIGHT
END:VTIMEZONE
BEGIN:VEVENT
UID:31cfedba-e349-4ab0-9d3e-1eb29200633c
DTSTAMP:20260420T225553Z
DESCRIPTION:Have you had a baby  born with Down syndrome in the past few ye
 ars?  Do you have a loved one with Down syndrome and are new to Montgomery
  County.  Are you wondering what DSNMC can offer you?  If you answered yes
  to these questions\, please attend our New Family Picnic.  This event is 
 geared towards younger families\, and families who haven't been introduced
  to the DSNMC.  If you attended our May picnic\, you are welcome to attend
 f this one too!  The New Family Committee members will be in attendance to
  welcome you.\n\nGriffith Park has parking\, a tot lot\, bathrooms and a c
 overed pavilion\, so this event will occur rain or shine.  Pre-registratio
 n is required at: \nhttps://dsnmc.networkforgood.com/events/46855-dsnmc-ne
 w-family-picnic
DTSTART;TZID=America/New_York:20221001T100000
DTEND;TZID=America/New_York:20221001T120000
LOCATION:Griffith Park\, 29 South Summit Avenue\, Gaithersburg\, MD 20877 U
 S
SUMMARY:New Family Breakfast
END:VEVENT
END:VCALENDAR
