BEGIN:VCALENDAR
VERSION:2.0
PRODID:-//dsnmc.org//NONSGML kigkonsult.se iCalcreator 2.30.10//
CALSCALE:GREGORIAN
METHOD:PUBLISH
UID:797c36c9-c4d2-438b-8a43-5ae68642b4b3
X-WR-CALDESC:MainStreet Connect offers a gathering for DSNMC families.\n\nP
 arents are invited to meet at Soulfull Café to connect and learn from pare
 nts whose adult children are living independently at Main Street\, an affo
 rdable\, inclusive apartment and community center. Soulfull Café is commit
 ted to employment for people of all abilities. Please come to learn\, conn
 ect and show support for Soulfull’s inclusive business! After the gatherin
 g\, Main Street staff member and parent of Bobby (age 15 with DS) will off
 er a tour of Main Street’s community spaces for those who are interested.
 \n\nSnacks and drinks will be available for purchase at the Soulfull Cafe.
X-WR-RELCALID:5e0cfb54316daa9159cd71ac8876cb22
X-WR-TIMEZONE:America/New_York
BEGIN:VTIMEZONE
TZID:America/New_York
BEGIN:STANDARD
TZNAME:EST
DTSTART:20211107T020000
TZOFFSETFROM:-0400
TZOFFSETTO:-0500
RDATE:20221106T020000
RDATE:20231105T020000
END:STANDARD
BEGIN:DAYLIGHT
TZNAME:EDT
DTSTART:20220313T020000
TZOFFSETFROM:-0500
TZOFFSETTO:-0400
RDATE:20230312T020000
RDATE:20240310T020000
END:DAYLIGHT
END:VTIMEZONE
BEGIN:VEVENT
UID:7fad6028-c885-4a25-b283-80c67df071ea
DTSTAMP:20260420T225924Z
DESCRIPTION:MainStreet Connect offers a gathering for DSNMC families.\n\nPa
 rents are invited to meet at Soulfull Café to connect and learn from paren
 ts whose adult children are living independently at Main Street\, an affor
 dable\, inclusive apartment and community center. Soulfull Café is committ
 ed to employment for people of all abilities. Please come to learn\, conne
 ct and show support for Soulfull’s inclusive business! After the gathering
 \, Main Street staff member and parent of Bobby (age 15 with DS) will offe
 r a tour of Main Street’s community spaces for those who are interested.\n
 \nSnacks and drinks will be available for purchase at the Soulfull Cafe.
DTSTART;TZID=America/New_York:20221001T103000
DTEND;TZID=America/New_York:20221001T113000
LOCATION:Main Street\, 50 Monroe Place\, Rockville\, MD 20850 US
SUMMARY:Parent Gathering at the Soulfull Cafe
END:VEVENT
END:VCALENDAR
