BEGIN:VCALENDAR
VERSION:2.0
PRODID:-//dsnmc.org//NONSGML kigkonsult.se iCalcreator 2.30.10//
CALSCALE:GREGORIAN
METHOD:PUBLISH
UID:85a8647a-2e75-419d-88b1-540a49420937
X-WR-CALDESC:Join your friends in person for an Art Stream class at Main St
 reet on Sunday\, October 9th\, from 3:00 - 4:30. The self-advocates will w
 ork on speeches they will present at the Step UP for Down Syndrome celebra
 tion on October 15th. While the self-advocates are working on communicatio
 n skills\, there will be an additional room available for parents to congr
 egate and socialize. Mary Ann Dawedeit will be on hand to welcome self-adv
 ocates and parents!\n\n\nThis class is limited to 15 participants.\n\nArt 
 Stream requires proof of full vaccination (at least 2 weeks past your seco
 nd dose)\, and you must wear a mask and social distance. They recommend a 
 high filtration mask such as an N95 or KN95 mask instead of a cloth mask. 
 These are generally available for free at libraries\, drug stores\, and co
 unty facilities. ArtStream staff will be masked for the duration of the cl
 ass.\n\nWhen you register\, send a copy of your vaccination card to Joy St
 ein at admin@dsnmc.org
X-WR-RELCALID:9dff0102c7b7335a9cd58c7915ee7d93
X-WR-TIMEZONE:America/New_York
BEGIN:VTIMEZONE
TZID:America/New_York
BEGIN:STANDARD
TZNAME:EST
DTSTART:20211107T020000
TZOFFSETFROM:-0400
TZOFFSETTO:-0500
RDATE:20221106T020000
RDATE:20231105T020000
END:STANDARD
BEGIN:DAYLIGHT
TZNAME:EDT
DTSTART:20220313T020000
TZOFFSETFROM:-0500
TZOFFSETTO:-0400
RDATE:20230312T020000
RDATE:20240310T020000
END:DAYLIGHT
END:VTIMEZONE
BEGIN:VEVENT
UID:4c6a6023-0ca5-4b15-81a6-ec1bca2c18e6
DTSTAMP:20260420T225435Z
DESCRIPTION:Join your friends in person for an Art Stream class at Main Str
 eet on Sunday\, October 9th\, from 3:00 - 4:30. The self-advocates will wo
 rk on speeches they will present at the Step UP for Down Syndrome celebrat
 ion on October 15th. While the self-advocates are working on communication
  skills\, there will be an additional room available for parents to congre
 gate and socialize. Mary Ann Dawedeit will be on hand to welcome self-advo
 cates and parents!\n\n\nThis class is limited to 15 participants.\n\nArt S
 tream requires proof of full vaccination (at least 2 weeks past your secon
 d dose)\, and you must wear a mask and social distance. They recommend a h
 igh filtration mask such as an N95 or KN95 mask instead of a cloth mask. T
 hese are generally available for free at libraries\, drug stores\, and cou
 nty facilities. ArtStream staff will be masked for the duration of the cla
 ss.\n\nWhen you register\, send a copy of your vaccination card to Joy Ste
 in at admin@dsnmc.org
DTSTART;TZID=America/New_York:20221009T150000
DTEND;TZID=America/New_York:20221009T163000
LOCATION:Main Street\, 50 Monroe Place\, Rocville\, MD 20850 US
SUMMARY:ArtStream Positively Speaking Workshop
END:VEVENT
END:VCALENDAR
