BEGIN:VCALENDAR
VERSION:2.0
PRODID:-//dsnmc.org//NONSGML kigkonsult.se iCalcreator 2.30.10//
CALSCALE:GREGORIAN
METHOD:PUBLISH
UID:71606133-f88c-469f-93b4-2aebe81aff8f
X-WR-CALDESC:The DSNMC Education Committee is now meeting on the second Thu
 rsday of each month from 7:15pm-8:15pm. \n\nCo-chairs: \nKalani Brown (kal
 aniuke@hotmail.com) and Carrie Swann (carrie.swann@gmail.com)\n\nJoin Zoom
  Meeting\nhttps://us02web.zoom.us/j/86288520613?pwd=TmIyZ3JDcmVCRUNuanRRWW
 NwT2h6QT09\n\nMeeting ID: 862 8852 0613\nPasscode: 785188\nOne tap mobile
 \n+13017158592
X-WR-RELCALID:e58911901c008487aab4aa9c060c0b2e
X-WR-TIMEZONE:America/New_York
BEGIN:VTIMEZONE
TZID:America/New_York
BEGIN:STANDARD
TZNAME:EST
DTSTART:20211107T020000
TZOFFSETFROM:-0400
TZOFFSETTO:-0500
RDATE:20221106T020000
RDATE:20231105T020000
END:STANDARD
BEGIN:DAYLIGHT
TZNAME:EDT
DTSTART:20220313T020000
TZOFFSETFROM:-0500
TZOFFSETTO:-0400
RDATE:20230312T020000
RDATE:20240310T020000
END:DAYLIGHT
END:VTIMEZONE
BEGIN:VEVENT
UID:26b27eb0-6050-4eab-8fa7-ed0d93df9f0d
DTSTAMP:20260420T225939Z
DESCRIPTION:The DSNMC Education Committee is now meeting on the second Thur
 sday of each month from 7:15pm-8:15pm. \n\nCo-chairs: \nKalani Brown (kala
 niuke@hotmail.com) and Carrie Swann (carrie.swann@gmail.com)\n\nJoin Zoom 
 Meeting\nhttps://us02web.zoom.us/j/86288520613?pwd=TmIyZ3JDcmVCRUNuanRRWWN
 wT2h6QT09\n\nMeeting ID: 862 8852 0613\nPasscode: 785188\nOne tap mobile\n
 +13017158592
DTSTART;TZID=America/New_York:20221013T191500
DTEND;TZID=America/New_York:20221013T201500
LOCATION:https://us02web.zoom.us/j/86288520613?pwd=TmIyZ3JDcmVCRUNuanRRWWNw
 T2h6QT09
SUMMARY:DSNMC Education Committee Meeting
END:VEVENT
END:VCALENDAR
