BEGIN:VCALENDAR
VERSION:2.0
PRODID:-//dsnmc.org//NONSGML kigkonsult.se iCalcreator 2.30.10//
CALSCALE:GREGORIAN
METHOD:PUBLISH
UID:e01ff4a0-05d0-4f6a-b18b-a43809093246
X-WR-CALDESC:Join us for our biggest event of the year! The Step Up Walk is
  our largest fundraiser of the year and provides about 70% of the needed r
 esources for the DSNMC to fulfill its mission. Every day we make meaningfu
 l strides to foster inclusion and to celebrate the lives of individuals wi
 th Down syndrome.  There is no better place to show your support than at F
 alls Rd. (Hadley's) Park at our annual Step Up for Down Syndrome Walk.\n\n
 It’s never too early to register your team and get started recruiting walk
 ers to come out in October and share in a wonderful celebration with the c
 ommunity.
X-WR-RELCALID:63740f7852fb6b55f05636a23183ebcc
X-WR-TIMEZONE:America/New_York
BEGIN:VTIMEZONE
TZID:America/New_York
BEGIN:STANDARD
TZNAME:EST
DTSTART:20211107T020000
TZOFFSETFROM:-0400
TZOFFSETTO:-0500
RDATE:20221106T020000
RDATE:20231105T020000
END:STANDARD
BEGIN:DAYLIGHT
TZNAME:EDT
DTSTART:20220313T020000
TZOFFSETFROM:-0500
TZOFFSETTO:-0400
RDATE:20230312T020000
RDATE:20240310T020000
END:DAYLIGHT
END:VTIMEZONE
BEGIN:VEVENT
UID:7ade0565-4dd2-44fa-a039-2afa4d60f88f
DTSTAMP:20260420T225834Z
DESCRIPTION:Join us for our biggest event of the year! The Step Up Walk is 
 our largest fundraiser of the year and provides about 70% of the needed re
 sources for the DSNMC to fulfill its mission. Every day we make meaningful
  strides to foster inclusion and to celebrate the lives of individuals wit
 h Down syndrome.  There is no better place to show your support than at Fa
 lls Rd. (Hadley's) Park at our annual Step Up for Down Syndrome Walk.\n\nI
 t’s never too early to register your team and get started recruiting walke
 rs to come out in October and share in a wonderful celebration with the co
 mmunity.
DTSTART;TZID=America/New_York:20221015T103000
DTEND;TZID=America/New_York:20221015T140000
LOCATION:Hadley's Park\, 12600 Falls Road\, Potomac\, MD 20854 US
SUMMARY:Step up for Down Syndrome Walk and Celebration
END:VEVENT
END:VCALENDAR
