BEGIN:VCALENDAR
VERSION:2.0
PRODID:-//dsnmc.org//NONSGML kigkonsult.se iCalcreator 2.30.10//
CALSCALE:GREGORIAN
METHOD:PUBLISH
UID:e91def01-72ba-4e32-8623-cdf7933f4aa8
X-WR-CALDESC:This presentation will focus on how occupational therapy skill
 s and speech-language therapy skills can both be addressed using play\, se
 lf-care routines\, sensorimotor activities\, and social participation.  We
  will review the sensorimotor and communication characteristics of childre
 n with Down Syndrome and provide a framework for developing their skills. 
  We will also provide examples of activities that can be successfully impl
 emented in the home setting. \n\n
X-WR-RELCALID:c4d9d49e692e96985b96538ace5f03d2
X-WR-TIMEZONE:America/New_York
BEGIN:VTIMEZONE
TZID:America/New_York
BEGIN:STANDARD
TZNAME:EST
DTSTART:20211107T020000
TZOFFSETFROM:-0400
TZOFFSETTO:-0500
RDATE:20221106T020000
RDATE:20231105T020000
END:STANDARD
BEGIN:DAYLIGHT
TZNAME:EDT
DTSTART:20220313T020000
TZOFFSETFROM:-0500
TZOFFSETTO:-0400
RDATE:20230312T020000
RDATE:20240310T020000
END:DAYLIGHT
END:VTIMEZONE
BEGIN:VEVENT
UID:9f4d0d6e-672d-4d7d-aab3-7e1c56494230
DTSTAMP:20260420T230137Z
DESCRIPTION:This presentation will focus on how occupational therapy skills
  and speech-language therapy skills can both be addressed using play\, sel
 f-care routines\, sensorimotor activities\, and social participation.  We 
 will review the sensorimotor and communication characteristics of children
  with Down Syndrome and provide a framework for developing their skills.  
 We will also provide examples of activities that can be successfully imple
 mented in the home setting. \n\n
DTSTART;TZID=America/New_York:20221020T193000
DTEND;TZID=America/New_York:20221020T203000
LOCATION:https://dsnmc.networkforgood.com/events/48369-the-importance-of-pl
 ay-self-care-routines-sensorimotor-activities-and-social-participation-for
 -children-with-down-syndrome
SUMMARY:The Importance of Play\, Self-Care Routines\, Sensorimotor Activiti
 es\, and Social Participation for Children with Down Syndrome
END:VEVENT
END:VCALENDAR
