BEGIN:VCALENDAR
VERSION:2.0
PRODID:-//dsnmc.org//NONSGML kigkonsult.se iCalcreator 2.30.10//
CALSCALE:GREGORIAN
METHOD:PUBLISH
UID:983e2a98-2f63-4e50-b34b-40ead05f8ba8
X-WR-CALDESC:Costumes are optional for DSNMC's virtual Halloween Party\, wh
 ich is suitable for all ages.  Join us from 7:30-8:30 pm when DJ Jason Che
 ng will play your favorite tunes. This is sure to be a spook-tacular night
  of fun!\n\nA zoom link will be provided at the time of registration.  To 
 register for this event\, click here: https://dsnmc.networkforgood.com/eve
 nts/46269-dsnmc-virtual-halloween-dance
X-WR-RELCALID:3c67d22541bd11e5ed4ae437c84cd15b
X-WR-TIMEZONE:America/New_York
BEGIN:VTIMEZONE
TZID:America/New_York
BEGIN:STANDARD
TZNAME:EST
DTSTART:20211107T020000
TZOFFSETFROM:-0400
TZOFFSETTO:-0500
RDATE:20221106T020000
RDATE:20231105T020000
END:STANDARD
BEGIN:DAYLIGHT
TZNAME:EDT
DTSTART:20220313T020000
TZOFFSETFROM:-0500
TZOFFSETTO:-0400
RDATE:20230312T020000
RDATE:20240310T020000
END:DAYLIGHT
END:VTIMEZONE
BEGIN:VEVENT
UID:ec9b5ec4-de0d-4b97-ab5d-6e4b6bbd03ff
DTSTAMP:20260420T225827Z
DESCRIPTION:Costumes are optional for DSNMC's virtual Halloween Party\, whi
 ch is suitable for all ages.  Join us from 7:30-8:30 pm when DJ Jason Chen
 g will play your favorite tunes. This is sure to be a spook-tacular night 
 of fun!\n\nA zoom link will be provided at the time of registration.  To r
 egister for this event\, click here: https://dsnmc.networkforgood.com/even
 ts/46269-dsnmc-virtual-halloween-dance
DTSTART;TZID=America/New_York:20221028T193000
DTEND;TZID=America/New_York:20221028T203000
LOCATION:
SUMMARY:DSNMC Virtual Halloween Dance
END:VEVENT
END:VCALENDAR
