BEGIN:VCALENDAR
VERSION:2.0
PRODID:-//dsnmc.org//NONSGML kigkonsult.se iCalcreator 2.30.10//
CALSCALE:GREGORIAN
METHOD:PUBLISH
UID:58c46115-fa94-4367-a7f2-2d71025eeeba
X-WR-CALDESC:Playgroup in the Park!\n\nJoin other DSNMC families\, IN PERSO
 N\, at Clarkmont Park in Boyds\, MD on Friday\, October 28th from 11:00 am
  to 12:00 noon. This is a great opportunity to meet other families in a re
 laxed setting while your children enjoy the playground.  This event is fre
 e\; pre-registration is required.  Click on this link to learn more about 
 Clarkmont Park: https://montgomeryparks.org/parks-and-trails/clarkmont-loc
 al-park/
X-WR-RELCALID:f4efe7e8f845b8614689b180ad541bd0
X-WR-TIMEZONE:America/New_York
BEGIN:VTIMEZONE
TZID:America/New_York
BEGIN:STANDARD
TZNAME:EST
DTSTART:20211107T020000
TZOFFSETFROM:-0400
TZOFFSETTO:-0500
RDATE:20221106T020000
RDATE:20231105T020000
END:STANDARD
BEGIN:DAYLIGHT
TZNAME:EDT
DTSTART:20220313T020000
TZOFFSETFROM:-0500
TZOFFSETTO:-0400
RDATE:20230312T020000
RDATE:20240310T020000
END:DAYLIGHT
END:VTIMEZONE
BEGIN:VEVENT
UID:5e4e46ec-cc3f-49e8-ba04-51b7c39c9c00
DTSTAMP:20260420T225715Z
DESCRIPTION:Playgroup in the Park!\n\nJoin other DSNMC families\, IN PERSON
 \, at Clarkmont Park in Boyds\, MD on Friday\, October 28th from 11:00 am 
 to 12:00 noon. This is a great opportunity to meet other families in a rel
 axed setting while your children enjoy the playground.  This event is free
 \; pre-registration is required.  Click on this link to learn more about C
 larkmont Park: https://montgomeryparks.org/parks-and-trails/clarkmont-loca
 l-park/
DTSTART;TZID=America/New_York:20221028T110000
DTEND;TZID=America/New_York:20221028T120000
LOCATION:Clarkmont Park\, 13905 Stilt Street\, Boyds\, MD 20841 US
SUMMARY:Playgroup in the Park
END:VEVENT
END:VCALENDAR
