BEGIN:VCALENDAR
VERSION:2.0
PRODID:-//dsnmc.org//NONSGML kigkonsult.se iCalcreator 2.30.10//
CALSCALE:GREGORIAN
METHOD:PUBLISH
UID:ecb5ad90-92d5-4afc-9ae8-8ecd6c7233a9
X-WR-CALDESC:Join our Teen Hangout program every Thursday at 6:30 via Zoom!
  For Ages 12 - 17. Families are welcome to join.
X-WR-RELCALID:1084e851761df5c57444a786f06740d9
X-WR-TIMEZONE:America/New_York
BEGIN:VTIMEZONE
TZID:America/New_York
BEGIN:STANDARD
TZNAME:EST
DTSTART:20211107T020000
TZOFFSETFROM:-0400
TZOFFSETTO:-0500
RDATE:20221106T020000
RDATE:20231105T020000
END:STANDARD
BEGIN:DAYLIGHT
TZNAME:EDT
DTSTART:20220313T020000
TZOFFSETFROM:-0500
TZOFFSETTO:-0400
RDATE:20230312T020000
RDATE:20240310T020000
END:DAYLIGHT
END:VTIMEZONE
BEGIN:VEVENT
UID:1f2c627f-36a6-44a7-9b13-1b5c39184bd9
DTSTAMP:20260420T215324Z
DESCRIPTION:Join our Teen Hangout program every Thursday at 6:30 via Zoom! 
 For Ages 12 - 17. Families are welcome to join.
DTSTART;TZID=America/New_York:20221103T183000
DTEND;TZID=America/New_York:20221103T190000
LOCATION:https://us02web.zoom.us/j/83919769645
SUMMARY:Teen Hangout Social Meetings
END:VEVENT
END:VCALENDAR
