BEGIN:VCALENDAR
VERSION:2.0
PRODID:-//dsnmc.org//NONSGML kigkonsult.se iCalcreator 2.30.10//
CALSCALE:GREGORIAN
METHOD:PUBLISH
UID:b529605d-f504-405e-8f03-28c52a34575e
X-WR-CALDESC:We can't wait for you to come to DSNMC's  Virtual Karaoke nigh
 t. Join your friends to sing your favorite songs. Make sure to include a f
 ew songs you'd like to sing when you register.
X-WR-RELCALID:4edb56e82d615c81944e28efcd2f005e
X-WR-TIMEZONE:America/New_York
BEGIN:VTIMEZONE
TZID:America/New_York
BEGIN:STANDARD
TZNAME:EST
DTSTART:20211107T020000
TZOFFSETFROM:-0400
TZOFFSETTO:-0500
RDATE:20221106T020000
RDATE:20231105T020000
END:STANDARD
BEGIN:DAYLIGHT
TZNAME:EDT
DTSTART:20220313T020000
TZOFFSETFROM:-0500
TZOFFSETTO:-0400
RDATE:20230312T020000
RDATE:20240310T020000
END:DAYLIGHT
END:VTIMEZONE
BEGIN:VEVENT
UID:1285a7ff-983b-4f78-a5d7-d288afb56c71
DTSTAMP:20260420T214927Z
DESCRIPTION:We can't wait for you to come to DSNMC's  Virtual Karaoke night
 . Join your friends to sing your favorite songs. Make sure to include a fe
 w songs you'd like to sing when you register.
DTSTART;TZID=America/New_York:20221104T193000
DTEND;TZID=America/New_York:20221104T210000
LOCATION:https://dsnmc.networkforgood.com/events/49170-virtual-karaoke-nigh
 t
SUMMARY:Virtual Karaoke Night
END:VEVENT
END:VCALENDAR
