BEGIN:VCALENDAR
VERSION:2.0
PRODID:-//dsnmc.org//NONSGML kigkonsult.se iCalcreator 2.30.10//
CALSCALE:GREGORIAN
METHOD:PUBLISH
UID:91759ac7-45c2-45ac-8b81-bee66d0fa660
X-WR-CALDESC:
X-WR-RELCALID:d50e72d9d5bd7a306fbe53bbcfa2dc01
X-WR-TIMEZONE:America/New_York
BEGIN:VTIMEZONE
TZID:America/New_York
BEGIN:STANDARD
TZNAME:EST
DTSTART:20211107T020000
TZOFFSETFROM:-0400
TZOFFSETTO:-0500
RDATE:20221106T020000
RDATE:20231105T020000
END:STANDARD
BEGIN:DAYLIGHT
TZNAME:EDT
DTSTART:20220313T020000
TZOFFSETFROM:-0500
TZOFFSETTO:-0400
RDATE:20230312T020000
RDATE:20240310T020000
END:DAYLIGHT
END:VTIMEZONE
BEGIN:VEVENT
UID:0bd4b7aa-fc90-46e6-aa36-c5a70d83f2e1
DTSTAMP:20260420T215252Z
DESCRIPTION:
DTSTART;TZID=America/New_York:20221107T203000
DTEND;TZID=America/New_York:20221107T214500
LOCATION:
SUMMARY:New Family Committee Meeting
END:VEVENT
END:VCALENDAR
