BEGIN:VCALENDAR
VERSION:2.0
PRODID:-//dsnmc.org//NONSGML kigkonsult.se iCalcreator 2.30.10//
CALSCALE:GREGORIAN
METHOD:PUBLISH
UID:f7f9b2e7-a81f-4ae4-8c56-c7b358456524
X-WR-CALDESC:
X-WR-RELCALID:b552890ab63f324202904601c8319567
X-WR-TIMEZONE:America/New_York
BEGIN:VTIMEZONE
TZID:America/New_York
BEGIN:STANDARD
TZNAME:EST
DTSTART:20221106T020000
TZOFFSETFROM:-0400
TZOFFSETTO:-0500
RDATE:20231105T020000
END:STANDARD
BEGIN:DAYLIGHT
TZNAME:EDT
DTSTART:20220313T020000
TZOFFSETFROM:-0500
TZOFFSETTO:-0400
RDATE:20230312T020000
RDATE:20240310T020000
END:DAYLIGHT
END:VTIMEZONE
BEGIN:VEVENT
UID:0f08ede8-8965-4a69-9690-e123e90ae07a
DTSTAMP:20260420T215033Z
DESCRIPTION:
DTSTART;TZID=America/New_York:20221114T200000
DTEND;TZID=America/New_York:20221114T210000
LOCATION:
SUMMARY:Executive Committee Meeting
END:VEVENT
END:VCALENDAR
