BEGIN:VCALENDAR
VERSION:2.0
PRODID:-//dsnmc.org//NONSGML kigkonsult.se iCalcreator 2.30.10//
CALSCALE:GREGORIAN
METHOD:PUBLISH
UID:64ef18fe-64b8-4038-a643-3ae2cf93dac9
X-WR-CALDESC:Join other families and friends for DSNMC's virtual BINGO nigh
 t. Bingo cards will be emailed to the first 25 people to register for this
  event. You will need a device for zoom. You can either play bingo on a ph
 one or IPad\, or you can print your bingo card.
X-WR-RELCALID:66de2dc693ed2c9c9a66a3f56e206e09
X-WR-TIMEZONE:America/New_York
BEGIN:VTIMEZONE
TZID:America/New_York
BEGIN:STANDARD
TZNAME:EST
DTSTART:20221106T020000
TZOFFSETFROM:-0400
TZOFFSETTO:-0500
RDATE:20231105T020000
END:STANDARD
BEGIN:DAYLIGHT
TZNAME:EDT
DTSTART:20220313T020000
TZOFFSETFROM:-0500
TZOFFSETTO:-0400
RDATE:20230312T020000
RDATE:20240310T020000
END:DAYLIGHT
END:VTIMEZONE
BEGIN:VEVENT
UID:8066163d-403f-4c28-86c0-b357f53be758
DTSTAMP:20260420T205049Z
DESCRIPTION:Join other families and friends for DSNMC's virtual BINGO night
 . Bingo cards will be emailed to the first 25 people to register for this 
 event. You will need a device for zoom. You can either play bingo on a pho
 ne or IPad\, or you can print your bingo card.
DTSTART;TZID=America/New_York:20221202T193000
DTEND;TZID=America/New_York:20221202T203000
LOCATION:https://dsnmc.networkforgood.com/events/50091-bingo-night
SUMMARY:Bingo Night-postponed\, new date TBD
END:VEVENT
END:VCALENDAR
