BEGIN:VCALENDAR
VERSION:2.0
PRODID:-//dsnmc.org//NONSGML kigkonsult.se iCalcreator 2.30.10//
CALSCALE:GREGORIAN
METHOD:PUBLISH
UID:2765f9fc-5d31-4903-b04c-1b522bd564ef
X-WR-CALDESC:Thanks to a very generous donation from Ginny Colten-Bradley\,
  DSNMC is able to offer 6 pairs of tickets to the Metropolitan Ballet's pe
 rformance of The Nutcracker Suite on Sunday\, December 4th at 10:30 am. Ex
 pect this performance to last for about 55 minutes with no intermission. 
 \n\nMetropolitan Ballet Theatre’s The Nutcracker Suite is a perfect\, shor
 ter-length introduction to the theater and ballet\, geared to young audien
 ces!\n\nMontgomery College prioritizes the health and safety of its studen
 ts and employees above all else. Montgomery College requires all individua
 ls (employees\, students\, contractors\, and guests) to wear a face coveri
 ng (masks) at all times indoors\, regardless of vaccination status (except
  when eating or drinking).  \nTo register\, click here: https://dsnmc.netw
 orkforgood.com/events/50494-the-nutcracker-suite-short-version-show
X-WR-RELCALID:338526d53a272f20f74d6645f7946c0d
X-WR-TIMEZONE:America/New_York
BEGIN:VTIMEZONE
TZID:America/New_York
BEGIN:STANDARD
TZNAME:EST
DTSTART:20221106T020000
TZOFFSETFROM:-0400
TZOFFSETTO:-0500
RDATE:20231105T020000
END:STANDARD
BEGIN:DAYLIGHT
TZNAME:EDT
DTSTART:20220313T020000
TZOFFSETFROM:-0500
TZOFFSETTO:-0400
RDATE:20230312T020000
RDATE:20240310T020000
END:DAYLIGHT
END:VTIMEZONE
BEGIN:VEVENT
UID:983a6bbe-2b24-4463-a671-b0ea35278c9d
DTSTAMP:20260420T204652Z
DESCRIPTION:Thanks to a very generous donation from Ginny Colten-Bradley\, 
 DSNMC is able to offer 6 pairs of tickets to the Metropolitan Ballet's per
 formance of The Nutcracker Suite on Sunday\, December 4th at 10:30 am. Exp
 ect this performance to last for about 55 minutes with no intermission. \n
 \nMetropolitan Ballet Theatre’s The Nutcracker Suite is a perfect\, shorte
 r-length introduction to the theater and ballet\, geared to young audience
 s!\n\nMontgomery College prioritizes the health and safety of its students
  and employees above all else. Montgomery College requires all individuals
  (employees\, students\, contractors\, and guests) to wear a face covering
  (masks) at all times indoors\, regardless of vaccination status (except w
 hen eating or drinking).  \nTo register\, click here: https://dsnmc.networ
 kforgood.com/events/50494-the-nutcracker-suite-short-version-show
DTSTART;TZID=America/New_York:20221204T103000
DTEND;TZID=America/New_York:20221204T113000
LOCATION:
SUMMARY:The Nutcracker Suite
END:VEVENT
END:VCALENDAR
