BEGIN:VCALENDAR
VERSION:2.0
PRODID:-//dsnmc.org//NONSGML kigkonsult.se iCalcreator 2.30.10//
CALSCALE:GREGORIAN
METHOD:PUBLISH
UID:2cd8f023-ac39-4c63-ba2a-6f46bccec0fc
X-WR-CALDESC:Thanks to a very generous donation from Ginny Colten-Bradley\,
  DSNMC is able to offer 6 pairs of tickets to the Metropolitan Ballet's pe
 rformance of the Nutcracker on Sunday\, December 4th at 1 pm. Expect this 
 performance to last for about 2 hours\, including an intermission. \n\nMon
 tgomery College prioritizes the health and safety of its students and empl
 oyees above all else. Montgomery College requires all individuals (employe
 es\, students\, contractors\, and guests) to wear a face covering (masks) 
 at all times indoors\, regardless of vaccination status (except when eatin
 g or drinking).\n\nClick here to register: https://dsnmc.networkforgood.co
 m/events/50488-nutcracker
X-WR-RELCALID:90e8853395525b3d7836aad54151c574
X-WR-TIMEZONE:America/New_York
BEGIN:VTIMEZONE
TZID:America/New_York
BEGIN:STANDARD
TZNAME:EST
DTSTART:20221106T020000
TZOFFSETFROM:-0400
TZOFFSETTO:-0500
RDATE:20231105T020000
END:STANDARD
BEGIN:DAYLIGHT
TZNAME:EDT
DTSTART:20220313T020000
TZOFFSETFROM:-0500
TZOFFSETTO:-0400
RDATE:20230312T020000
RDATE:20240310T020000
END:DAYLIGHT
END:VTIMEZONE
BEGIN:VEVENT
UID:ee62ba8c-dc2d-4b00-b46e-2f219d3daa24
DTSTAMP:20260420T204809Z
DESCRIPTION:Thanks to a very generous donation from Ginny Colten-Bradley\, 
 DSNMC is able to offer 6 pairs of tickets to the Metropolitan Ballet's per
 formance of the Nutcracker on Sunday\, December 4th at 1 pm. Expect this p
 erformance to last for about 2 hours\, including an intermission. \n\nMont
 gomery College prioritizes the health and safety of its students and emplo
 yees above all else. Montgomery College requires all individuals (employee
 s\, students\, contractors\, and guests) to wear a face covering (masks) a
 t all times indoors\, regardless of vaccination status (except when eating
  or drinking).\n\nClick here to register: https://dsnmc.networkforgood.com
 /events/50488-nutcracker
DTSTART;TZID=America/New_York:20221204T133000
DTEND;TZID=America/New_York:20221204T163000
LOCATION:
SUMMARY:The Nutcracker
END:VEVENT
END:VCALENDAR
