BEGIN:VCALENDAR
VERSION:2.0
PRODID:-//dsnmc.org//NONSGML kigkonsult.se iCalcreator 2.30.10//
CALSCALE:GREGORIAN
METHOD:PUBLISH
UID:765b717c-7093-4fab-8122-066110439a3e
X-WR-CALDESC:
X-WR-RELCALID:6c88b528c9a0a268f10c496969ee9555
X-WR-TIMEZONE:America/New_York
BEGIN:VTIMEZONE
TZID:America/New_York
BEGIN:STANDARD
TZNAME:EST
DTSTART:20221106T020000
TZOFFSETFROM:-0400
TZOFFSETTO:-0500
RDATE:20231105T020000
END:STANDARD
BEGIN:DAYLIGHT
TZNAME:EDT
DTSTART:20220313T020000
TZOFFSETFROM:-0500
TZOFFSETTO:-0400
RDATE:20230312T020000
RDATE:20240310T020000
END:DAYLIGHT
END:VTIMEZONE
BEGIN:VEVENT
UID:a0ed6bfe-4194-43f7-a6cf-bec32fb5b327
DTSTAMP:20260420T205241Z
DESCRIPTION:
DTSTART;TZID=America/New_York:20221205T203000
DTEND;TZID=America/New_York:20221205T214500
LOCATION:
SUMMARY:New Family Committee Meeting
END:VEVENT
END:VCALENDAR
