BEGIN:VCALENDAR
VERSION:2.0
PRODID:-//dsnmc.org//NONSGML kigkonsult.se iCalcreator 2.30.10//
CALSCALE:GREGORIAN
METHOD:PUBLISH
UID:27a42f01-fe2b-48cd-adae-ce443e4f9eb5
X-WR-CALDESC:Kelly Nelson from Maryland ABLE will share an overview of how 
 ABLE accounts can help people with disabilities and their families to save
  and invest for the future without jeopardizing federal\, state\, and loca
 l benefits such as SSI and Medicaid. Families will learn about tax-advanta
 ged savings and investment options as well as how to use the ABLE account 
 to pay for qualified disability-related expenses. Join us to learn about t
 he eligibility criteria\, enrollment process\, features of a Maryland ABLE
  account and the account management process.
X-WR-RELCALID:faa17800a94cf938d34a5f016203ec66
X-WR-TIMEZONE:America/New_York
BEGIN:VTIMEZONE
TZID:America/New_York
BEGIN:STANDARD
TZNAME:EST
DTSTART:20221106T020000
TZOFFSETFROM:-0400
TZOFFSETTO:-0500
RDATE:20231105T020000
END:STANDARD
BEGIN:DAYLIGHT
TZNAME:EDT
DTSTART:20220313T020000
TZOFFSETFROM:-0500
TZOFFSETTO:-0400
RDATE:20230312T020000
RDATE:20240310T020000
END:DAYLIGHT
END:VTIMEZONE
BEGIN:VEVENT
UID:4d3092e3-2ea8-49ed-a33d-3b86cb070124
DTSTAMP:20260420T205220Z
DESCRIPTION:Kelly Nelson from Maryland ABLE will share an overview of how A
 BLE accounts can help people with disabilities and their families to save 
 and invest for the future without jeopardizing federal\, state\, and local
  benefits such as SSI and Medicaid. Families will learn about tax-advantag
 ed savings and investment options as well as how to use the ABLE account t
 o pay for qualified disability-related expenses. Join us to learn about th
 e eligibility criteria\, enrollment process\, features of a Maryland ABLE 
 account and the account management process.
DTSTART;TZID=America/New_York:20221207T193000
DTEND;TZID=America/New_York:20221207T210000
LOCATION:https://dsnmc.networkforgood.com/events/49847-maryland-able-a-fina
 ncial-planning-tool-for-people-with-disabilities-and-their-famili
SUMMARY:Maryland ABLE: A Financial Planning Tool for People with Disabiliti
 es and their Families
END:VEVENT
END:VCALENDAR
