BEGIN:VCALENDAR
VERSION:2.0
PRODID:-//dsnmc.org//NONSGML kigkonsult.se iCalcreator 2.30.10//
CALSCALE:GREGORIAN
METHOD:PUBLISH
UID:a7a21cc9-d4d0-4640-bba7-d8670b60b8e8
X-WR-CALDESC:Join your friends in person for an Art Stream class at Main St
 reet on Sunday\, December 11th\, from 3:00 - 4:30.  While the self-advocat
 es are working on communication skills\, there will be an additional room 
 available for parents to congregate and socialize. Mary Ann Dawedeit will 
 be on hand to welcome self-advocates and parents!\n\n\nThis class is limit
 ed to 15 participants.\n\nArt Stream requires proof of full vaccination (a
 t least 2 weeks past your second dose)\, and you must wear a mask and soci
 al distance. They recommend a high filtration mask such as an N95 or KN95 
 mask instead of a cloth mask. These are generally available for free at li
 braries\, drug stores\, and county facilities. ArtStream staff will be mas
 ked for the duration of the class.\n\nWhen you register\, send a copy of y
 our vaccination card to Joy Stein at admin@dsnmc.org
X-WR-RELCALID:df98e9b564901db9b8fcb28800167413
X-WR-TIMEZONE:America/New_York
BEGIN:VTIMEZONE
TZID:America/New_York
BEGIN:STANDARD
TZNAME:EST
DTSTART:20221106T020000
TZOFFSETFROM:-0400
TZOFFSETTO:-0500
RDATE:20231105T020000
END:STANDARD
BEGIN:DAYLIGHT
TZNAME:EDT
DTSTART:20220313T020000
TZOFFSETFROM:-0500
TZOFFSETTO:-0400
RDATE:20230312T020000
RDATE:20240310T020000
END:DAYLIGHT
END:VTIMEZONE
BEGIN:VEVENT
UID:560701c1-8508-458a-876e-50a9d4601c2e
DTSTAMP:20260420T204906Z
DESCRIPTION:Join your friends in person for an Art Stream class at Main Str
 eet on Sunday\, December 11th\, from 3:00 - 4:30.  While the self-advocate
 s are working on communication skills\, there will be an additional room a
 vailable for parents to congregate and socialize. Mary Ann Dawedeit will b
 e on hand to welcome self-advocates and parents!\n\n\nThis class is limite
 d to 15 participants.\n\nArt Stream requires proof of full vaccination (at
  least 2 weeks past your second dose)\, and you must wear a mask and socia
 l distance. They recommend a high filtration mask such as an N95 or KN95 m
 ask instead of a cloth mask. These are generally available for free at lib
 raries\, drug stores\, and county facilities. ArtStream staff will be mask
 ed for the duration of the class.\n\nWhen you register\, send a copy of yo
 ur vaccination card to Joy Stein at admin@dsnmc.org
DTSTART;TZID=America/New_York:20221211T150000
DTEND;TZID=America/New_York:20221211T163000
LOCATION:Main Street\, 50 Monroe Place\, Rocville\, MD 20850 US
SUMMARY:ArtStream Positively Speaking Workshop
END:VEVENT
END:VCALENDAR
