BEGIN:VCALENDAR
VERSION:2.0
PRODID:-//dsnmc.org//NONSGML kigkonsult.se iCalcreator 2.30.10//
CALSCALE:GREGORIAN
METHOD:PUBLISH
UID:063a7182-4c54-4540-bc89-f85954ce323c
X-WR-CALDESC:Join Adrian\, Sara and your friends for a teen holiday party a
 t Main Street in Rockville. DSNMC will provide pizza\, drinks\, and cupcak
 es. Parents are welcome to stay and eat. We look forward to gathering toge
 ther in person before the busy holiday season begins.  Please note that th
 is is a peanut-free event\; if you volunteer to bring a dish\, please make
  sure that it does not contain peanuts.\n\nPre-register by December 8th at
 : https://dsnmc.networkforgood.com/events/50402-teen-parent-holiday-party
X-WR-RELCALID:5f7f58f745ad10004fac49f9e6141533
X-WR-TIMEZONE:America/New_York
BEGIN:VTIMEZONE
TZID:America/New_York
BEGIN:STANDARD
TZNAME:EST
DTSTART:20221106T020000
TZOFFSETFROM:-0400
TZOFFSETTO:-0500
RDATE:20231105T020000
END:STANDARD
BEGIN:DAYLIGHT
TZNAME:EDT
DTSTART:20220313T020000
TZOFFSETFROM:-0500
TZOFFSETTO:-0400
RDATE:20230312T020000
RDATE:20240310T020000
END:DAYLIGHT
END:VTIMEZONE
BEGIN:VEVENT
UID:e7e8d2e7-1d51-47d7-99ec-8c445f9849fa
DTSTAMP:20260420T205810Z
DESCRIPTION:Join Adrian\, Sara and your friends for a teen holiday party at
  Main Street in Rockville. DSNMC will provide pizza\, drinks\, and cupcake
 s. Parents are welcome to stay and eat. We look forward to gathering toget
 her in person before the busy holiday season begins.  Please note that thi
 s is a peanut-free event\; if you volunteer to bring a dish\, please make 
 sure that it does not contain peanuts.\n\nPre-register by December 8th at:
  https://dsnmc.networkforgood.com/events/50402-teen-parent-holiday-party
DTSTART;TZID=America/New_York:20221213T180000
DTEND;TZID=America/New_York:20221213T193000
LOCATION:
SUMMARY:Teen Holiday Party
END:VEVENT
END:VCALENDAR
